Workbook
Name _: #N/A
Name ___________LPB1: [1]부하계산서!#REF!
Name ___________LPK1: [1]부하계산서!#REF!
Name ___________LU1: '[2]부하(성남)'!#REF!
Name ___________LU2: '[2]부하(성남)'!#REF!
Name ___________LV01: '[2]부하(성남)'!#REF!
Name ___________UP1: [1]부하계산서!#REF!
Name ___________UP2: [1]부하계산서!#REF!
Name __________LPB1: [1]부하계산서!#REF!
Name __________LPK1: [1]부하계산서!#REF!
Name __________LU1: '[2]부하(성남)'!#REF!
Name __________LU2: '[2]부하(성남)'!#REF!
Name __________LV01: '[2]부하(성남)'!#REF!
Name __________UP1: [1]부하계산서!#REF!
Name __________UP2: [1]부하계산서!#REF!
Name _________CDT2: #REF!
Name _________LP1: #REF!
Name _________LP2: #REF!
Name _________LPB1: [1]부하계산서!#REF!
Name _________LPK1: [1]부하계산서!#REF!
Name _________LU1: '[2]부하(성남)'!#REF!
Name _________LU2: '[2]부하(성남)'!#REF!
Name _________LV01: '[2]부하(성남)'!#REF!
Name _________UP1: [1]부하계산서!#REF!
Name _________UP2: [1]부하계산서!#REF!
Name ________CDT2: #REF!
Name ________DOG1: '[3]#REF'!$G$104
Name ________DOG2: '[3]#REF'!$I$105
Name ________DOG3: '[3]#REF'!$G$105
Name ________DOG4: '[3]#REF'!$I$105
Name ________LP1: #REF!
Name ________LP2: #REF!
Name ________LPB1: [1]부하계산서!#REF!
Name ________LPK1: [1]부하계산서!#REF!
Name ________LU1: '[2]부하(성남)'!#REF!
Name ________LU2: '[2]부하(성남)'!#REF!
Name ________LV01: '[2]부하(성남)'!#REF!
Name ________PI48: '[3]#REF'!$G$98
Name ________PI60: '[3]#REF'!$G$162
Name ________RO110: '[3]#REF'!$G$140
Name ________RO22: '[3]#REF'!$G$93
Name ________RO35: '[3]#REF'!$G$94
Name ________RO60: '[3]#REF'!$G$95
Name ________RO80: '[3]#REF'!$G$96
Name ________TON1: '[3]#REF'!$G$409
Name ________TON2: '[3]#REF'!$I$409
Name ________UP1: [1]부하계산서!#REF!
Name ________UP2: [1]부하계산서!#REF!
Name ________WW2: '[3]#REF'!$G$202
Name ________WW6: '[3]#REF'!$G$250
Name _______CDT2: #REF!
Name _______DOG1: '[3]#REF'!$G$104
Name _______DOG2: '[3]#REF'!$I$105
Name _______DOG3: '[3]#REF'!$G$105
Name _______DOG4: '[3]#REF'!$I$105
Name _______LP1: #REF!
Name _______LP2: #REF!
Name _______LPB1: [1]부하계산서!#REF!
Name _______LPK1: [1]부하계산서!#REF!
Name _______LU1: '[2]부하(성남)'!#REF!

Sheet 갑지
A5: 2014년도
A6: 공사명 : 한울본부 노후사택 환경개선 공사
B8: 설 계 내 역 서 ( 건축 +설비)

Sheet 총괄표
A1: 공사비총괄표
A2: 1. 공 사 명 : 한울본부 노후사택 환경개선 공사 | F2: 작성자(설계자) : ㈜세다케이씨건축사사무소 (인)
A3: 2. 규 모 : 102동 30세대 | F3: 연락처 | G3: 054-852-9016
A4: 3. 면 적 : 지상5층 ( 2,538.10m2) | F4: 발 주 사 무 소 :
A5: 4. 공사기간 : 8개월 내외 | F5: 연락처
H6: 단위 (원)
A7: 구 분 | B7: 도급공사 | C7: 관급 자재대 | E7: 계 (공사비) | F7: 소요 예산 | G7: 비 고
G8: 관급자재 내용 | H8: 비 고 | J8: =F20 -> 0 | K8: 추정 공사비
A9: 건축(설비) 공 사 | B9: =#REF! -> #REF! | C9: 4.26651e+08 | E9: =B9+C9 -> #REF! | G9: 알루미늄창호 / 가구 | J9: =E9*0.9 -> #REF!
A10: 폐기물처리비(건축) | B10: =#REF! -> #REF! | E10: =B10 -> #REF!
A11: 석면해체 처리비 | B11: =#REF! -> #REF! | E11: =B11 -> #REF!
E12: =B12+C12 -> 0
J14: =ROUNDDOWN(B14*0.9,-4) -> 0
J15: =ROUNDDOWN(B15*0.9,-4) -> 0
A20: 총 계 | B20: =SUM(B9:B19) -> #REF! | C20: =SUM(C9:D19) -> 4.26651e+08 | E20: =SUM(E9:E19) -> #REF! | J20: =SUM(J9:J19) -> #REF! | K20: =SUM(K9:K19) -> 0
A21: ※ 평당대비 설계단가 : /평 ※ 특이사항 :- | J21: =J20+K20 -> #REF! | K21: =J8-J20-K20 -> #REF!
A27: 연면적 | B27: 259.96
B28: =E20/B27 -> #REF!

Sheet 관급자재대
A1: 공사명 : 한울본부 노후사택 환경개선 공사 관급자재대
A2: 2014년 01월 일 설계 | C2: 심사자 | D2: 도급자설치 관급자대재 | G2: 관급자설치 관급자대재 | J2: 비 고
A3: 번호 | B3: 품 명 | C3: 단위 | D3: 신청수량 | E3: 단 가 | F3: 합 계 | G3: 신청수량 | H3: 단 가 | I3: 합 계 | J3: 물품번호 | K3: 비 고
A4: 1 | B4: 레일은페시스템창호-140mm | C4: KG | F4: =D4*E4 -> 0 | G4: 4989.48 | H4: =20000/1.1 -> 18181.818 | I4: =G4*H4 -> 90717818 | J4: 21613972 | K4: 현장 설치도
A5: 2 | B5: 레일은페시스템창호-230mm | C5: KG | F5: =D5*E5 -> 0 | G5: 4589.55 | H5: =20000/1.1 -> 18181.818 | I5: =G5*H5 -> 83446364 | J5: 21613990 | K5: 현장 설치도
B10: 각 소 계 | I10: =I4+I5 -> 1.7416418e+08
A12: 3 | B12: 침실-2 붙박이장 | C12: 조 | G12: 30 | H12: 1177000 | I12: =G12*H12 -> 35310000 | J12: 견적 | K12: 현장 설치도
A13: 4 | B13: 현관장 | C13: 조 | G13: 30 | H13: 443000 | I13: =G13*H13 -> 13290000 | J13: 견적 | K13: 현장 설치도
A14: 5 | B14: 욕실앞 븥박이장 | C14: 조 | G14: 30 | H14: 541000 | I14: =G14*H14 -> 16230000 | J14: 견적 | K14: 현장 설치도
A15: 6 | B15: 발코니장 | C15: 조 | G15: 30 | H15: 391000 | I15: =G15*H15 -> 11730000 | J15: 견적 | K15: 현장 설치도
A16: 7 | B16: 슬라이딩장 | C16: 조 | G16: 30 | H16: 210000 | I16: =G16*H16 -> 6300000 | J16: 견적 | K16: 현장 설치도
A17: 8 | B17: 내욕실장 | C17: 조 | G17: 30 | H17: 120000 | I17: =G17*H17 -> 3600000 | J17: 견적 | K17: 현장 설치도
A18: 9 | B18: 싱크대 | C18: 조 | G18: 30 | H18: 4210000 | I18: =G18*H18 -> 126300000 | J18: 견적 | K18: 현장 설치도
B19: 합 계 | F19: =SUM(F4:F18) -> 0 | I19: =SUM(I12:I18)*90% -> 191484000
A21: 10 | B21: 기계분 | I21: 39583300
A22: 11 | B22: PVC창호 | I22: 90000000
B23: 관 급 자 재 총 액 | G23: =I10+I19+I21+I22 -> 4.9523148e+08
G25: 246067000

Sheet 갑지(건축)
B2: 설 계 서 용 지 ( 갑 지 )
A3: 2014년 01월 일 설계 | C3: 설 계 자 | D3: ㈜세다케이씨 건축사사무소
B5: 2014년도
B6: 공사명 : 한울본부 노후사택 환경개선 공사
B7: ( 건 축 + 설 비 공 사 )
B9: 공사개요 : | C9: 1. 대 지 위 치 : 경상북도 울진군 북면 나곡리 한수원 사택내
C10: 2. 건 물 면 적 : 2,538.10 M2
C11: 3. 공 사 개 요 : 103동 ( 30세대)
C12: 4. 구 조 : 철근콘크리트조 / 스라브
C13: 5. 층 수 : 지상5층
B16: ="* 총 공 사 비 : ￦"&NUMBERSTRING(F20,1)&"원" -> #REF!
D18: * 건 축 공 사 : | F18: =#REF! -> #REF! | I18: 원
D20: * 합 계 : | F20: =SUM(F18:H19) -> #REF! | I20: 원

Sheet 부표
A1: 부 표
A3: 품 명 | B3: 규 격 | C3: 단위 | D3: 수 량 | E3: 재 료 비 | G3: 노 무 비 | I3: 경 비 | K3: 합 계 | M3: 비 고
E4: 단 가 | F4: 금 액 | G4: 단 가 | H4: 금 액 | I4: 단 가 | J4: 금 액 | K4: 단 가 | L4: 금 액 | N4: 손료요율 | O4: 손료구분 | P4: 적용구분 | Q4: 합계구분
A5: 공기압축기(이동식) | B5: 3.5M3/MIN | C5: HR | M5: 토목11-2
A6: 경 비 | K6: =E6+G6+I6 -> 0 | L6: =F6+H6+J6 -> 0
A7: 공기압축기(이동식) | B7: 3.5 ㎥/Min | C7: 대 | D7: 0.0001663 | I7: 10500000 | J7: =ROUNDDOWN(D7*I7,1) -> 1746.1 | K7: =E7+G7+I7 -> 10500000 | L7: =F7+H7+J7 -> 1746.1 | O7: 03 | P7: 기계경비 | Q7: 1
A8: 소 계 | J8: =SUMIF($Q$6:$Q$7, 1,$J$6:$J$7) -> 1746.1 | L8: =F8+H8+J8 -> 1746.1
A9: 재료비 | K9: =E9+G9+I9 -> 0 | L9: =F9+H9+J9 -> 0
A10: 경유 | B10: 저유황 | C10: L | D10: 6.2 | E10: =ROUNDDOWN(#REF!,0) -> #REF! | F10: =ROUNDDOWN(D10*E10,1) -> #REF! | K10: =E10+G10+I10 -> #REF! | L10: =F10+H10+J10 -> #REF! | M10: 물정P2-950 | O10: 01 | P10: 기계경비 | Q10: 1
A11: 잡품 | B11: ="주연료비의 "&N11*100&"%" -> 주연료비의 16% | C11: 식 | D11: 1 | E11: =SUMIF($O$5:O15, "01", $F$5:F15) -> #REF! | F11: =ROUNDDOWN(E11*N11,1) -> #REF! | K11: =E11+G11+I11 -> #REF! | L11: =F11+H11+J11 -> #REF! | N11: 0.16 | P11: 기계경비 | Q11: 1
A12: 소 계 | F12: =SUMIF($Q$9:$Q$11, 1,$F$9:$F$11) -> #REF! | L12: =F12+H12+J12 -> #REF!
A13: 노무비 | K13: =E13+G13+I13 -> 0 | L13: =F13+H13+J13 -> 0
A14: 건설기계운전사 | C14: 인 | D14: 0.1145833 | G14: 112268 | H14: =ROUNDDOWN(D14*G14,1) -> 12864 | K14: =E14+G14+I14 -> 112268 | L14: =F14+H14+J14 -> 12864 | O14: 02 | P14: 기계경비 | Q14: 1
A15: 소 계 | H15: =SUMIF($Q$13:$Q$14, 1,$H$13:$H$14) -> 12864 | L15: =F15+H15+J15 -> 12864
A16: 합 계 | F16: =ROUNDDOWN(SUMIF($Q$6:$Q$15, 1,$F$6:$F$15),0) -> #REF! | H16: =ROUNDDOWN(SUMIF($Q$6:$Q$15, 1,$H$6:$H$15),0) -> 12864 | J16: =ROUNDDOWN(SUMIF($Q$6:$Q$15, 1,$J$6:$J$15),0) -> 1746 | L16: =F16+H16+J16 -> #REF!
A17: 굴삭기(유압식백호우)+브레카 | B17: 0.7M3 | C17: HR | M17: 토목11-2
A18: 경 비 | K18: =E18+G18+I18 -> 0 | L18: =F18+H18+J18 -> 0
A19: 굴삭기(유압식백호우) | B19: 0.7 ㎥ | C19: 대 | D19: 0.0002038 | I19: 93042000 | J19: =ROUNDDOWN(D19*I19,1) -> 18961.9 | K19: =E19+G19+I19 -> 93042000 | L19: =F19+H19+J19 -> 18961.9 | O19: 03 | P19: 기계경비 | Q19: 1
A20: 대형브레이카 | B20: 0.7 ㎥용 | C20: 대 | D20: 0.0006533 | I20: 13750000 | J20: =ROUNDDOWN(D20*I20,1) -> 8982.8 | K20: =E20+G20+I20 -> 13750000 | L20: =F20+H20+J20 -> 8982.8 | O20: 03 | P20: 기계경비 | Q20: 1
A21: 소 계 | J21: =SUMIF($Q$18:$Q$20, 1,$J$18:$J$20) -> 27944.7 | L21: =F21+H21+J21 -> 27944.7
A22: 재료비 | K22: =E22+G22+I22 -> 0 | L22: =F22+H22+J22 -> 0
A23: 경유 | B23: 저유황 | C23: L | D23: 11.6 | E23: =ROUNDDOWN(#REF!,0) -> #REF! | F23: =ROUNDDOWN(D23*E23,1) -> #REF! | K23: =E23+G23+I23 -> #REF! | L23: =F23+H23+J23 -> #REF! | M23: 물정P2-950 | O23: 01 | P23: 기계경비 | Q23: 1
A24: 잡품 | B24: ="주연료비의 "&N24*100&"%" -> 주연료비의 16% | C24: 식 | D24: 1 | E24: =SUMIF($O$17:O28, "01", $F$17:F28) -> #REF! | F24: =ROUNDDOWN(E24*N24,1) -> #REF! | K24: =E24+G24+I24 -> #REF! | L24: =F24+H24+J24 -> #REF! | N24: 0.16 | P24: 기계경비 | Q24: 1
A25: 소 계 | F25: =SUMIF($Q$22:$Q$24, 1,$F$22:$F$24) -> #REF! | L25: =F25+H25+J25 -> #REF!
A26: 노무비 | K26: =E26+G26+I26 -> 0 | L26: =F26+H26+J26 -> 0
A27: 건설기계운전사 | C27: 인 | D27: 0.1145833 | G27: 112268 | H27: =ROUNDDOWN(D27*G27,1) -> 12864 | K27: =E27+G27+I27 -> 112268 | L27: =F27+H27+J27 -> 12864 | O27: 02 | P27: 기계경비 | Q27: 1
A28: 소 계 | H28: =SUMIF($Q$26:$Q$27, 1,$H$26:$H$27) -> 12864 | L28: =F28+H28+J28 -> 12864
A29: 합 계 | F29: =ROUNDDOWN(SUMIF($Q$18:$Q$28, 1,$F$18:$F$28),0) -> #REF! | H29: =ROUNDDOWN(SUMIF($Q$18:$Q$28, 1,$H$18:$H$28),0) -> 12864 | J29: =ROUNDDOWN(SUMIF($Q$18:$Q$28, 1,$J$18:$J$28),0) -> 27944 | L29: =F29+H29+J29 -> #REF!
A30: 모르터 믹서 | B30: 0.3㎥ SET | C30: HR | M30: 참고자료
A31: 경 비 | K31: =E31+G31+I31 -> 0 | L31: =F31+H31+J31 -> 0
A32: 모르터믹서 | B32: SET | C32: 대 | D32: 0.0003708 | I32: 4552000 | J32: =ROUNDDOWN(D32*I32,1) -> 1687.8 | K32: =E32+G32+I32 -> 4552000 | L32: =F32+H32+J32 -> 1687.8 | O32: 03 | P32: 기계경비 | Q32: 1
A33: 소 계 | J33: =SUMIF($Q$31:$Q$32, 1,$J$31:$J$32) -> 1687.8 | L33: =F33+H33+J33 -> 1687.8
A34: 재료비 | K34: =E34+G34+I34 -> 0 | L34: =F34+H34+J34 -> 0
A35: 휘발유 | B35: 무연 | C35: L | D35: 1.3 | E35: =ROUNDDOWN(#REF!,0) -> #REF! | F35: =ROUNDDOWN(D35*E35,1) -> #REF! | K35: =E35+G35+I35 -> #REF! | L35: =F35+H35+J35 -> #REF! | M35: 물정P2-950 | O35: 04 | P35: 기계경비 | Q35: 1
A36: 잡품 | B36: ="주연료비의 "&N36*100&"%" -> 주연료비의 2% | C36: 식 | D36: 1 | E36: =SUMIF($O$30:O38, "04", $F$30:F38) -> #REF! | F36: =ROUNDDOWN(E36*N36,1) -> #REF! | K36: =E36+G36+I36 -> #REF! | L36: =F36+H36+J36 -> #REF! | N36: 0.02 | P36: 기계경비 | Q36: 1
A37: 전력 | C37: ㎾h | D37: 1.87 | E37: =ROUNDDOWN(#REF!,2) -> #REF! | F37: =ROUNDDOWN(D37*E37,1) -> #REF! | K37: =E37+G37+I37 -> #REF! | L37: =F37+H37+J37 -> #REF! | M37: 물정P185(부록) | O37: 01 | P37: 기계경비 | Q37: 1
A38: 소 계 | F38: =SUMIF($Q$34:$Q$37, 1,$F$34:$F$37) -> #REF! | L38: =F38+H38+J38 -> #REF!
A39: 합 계 | F39: =ROUNDDOWN(SUMIF($Q$31:$Q$38, 1,$F$31:$F$38),0) -> #REF! | H39: =ROUNDDOWN(SUMIF($Q$31:$Q$38, 1,$H$31:$H$38),0) -> 0 | J39: =ROUNDDOWN(SUMIF($Q$31:$Q$38, 1,$J$31:$J$38),0) -> 1687 | L39: =F39+H39+J39 -> #REF!
A40: 모르터 펌프 | B40: 7.46kw | C40: HR | M40: 참고자료
A41: 경 비 | K41: =E41+G41+I41 -> 0 | L41: =F41+H41+J41 -> 0
A42: 모르터펌프 | B42: 10HP | C42: 대 | D42: 0.0004677 | I42: 17716000 | J42: =ROUNDDOWN(D42*I42,1) -> 8285.7 | K42: =E42+G42+I42 -> 17716000 | L42: =F42+H42+J42 -> 8285.7 | O42: 03 | P42: 기계경비 | Q42: 1
A43: 소 계 | J43: =SUMIF($Q$41:$Q$42, 1,$J$41:$J$42) -> 8285.7 | L43: =F43+H43+J43 -> 8285.7
A44: 재료비 | K44: =E44+G44+I44 -> 0 | L44: =F44+H44+J44 -> 0
A45: 전력 | C45: ㎾h | D45: 7.46 | E45: =ROUNDDOWN(#REF!,2) -> #REF! | F45: =ROUNDDOWN(D45*E45,1) -> #REF! | K45: =E45+G45+I45 -> #REF! | L45: =F45+H45+J45 -> #REF! | M45: 물정P185(부록) | O45: 03 | P45: 기계경비 | Q45: 1
A46: 소 계 | F46: =SUMIF($Q$44:$Q$45, 1,$F$44:$F$45) -> #REF! | L46: =F46+H46+J46 -> #REF!
A47: 합 계 | F47: =ROUNDDOWN(SUMIF($Q$41:$Q$46, 1,$F$41:$F$46),0) -> #REF! | H47: =ROUNDDOWN(SUMIF($Q$41:$Q$46, 1,$H$41:$H$46),0) -> 0 | J47: =ROUNDDOWN(SUMIF($Q$41:$Q$46, 1,$J$41:$J$46),0) -> 8285 | L47: =F47+H47+J47 -> #REF!
A48: 배관파이프 | B48: Ø50mm-2.6m | C48: HR | M48: 참고자료
A49: 경 비 | K49: =E49+G49+I49 -> 0 | L49: =F49+H49+J49 -> 0
A50: 배관파이프 | B50: D50/2.6m | C50: 대 | D50: 0.0005 | I50: 13000 | J50: =ROUNDDOWN(D50*I50,1) -> 6.5 | K50: =E50+G50+I50 -> 13000 | L50: =F50+H50+J50 -> 6.5 | O50: 03 | P50: 기계경비 | Q50: 1
A51: 소 계 | J51: =SUMIF($Q$49:$Q$50, 1,$J$49:$J$50) -> 6.5 | L51: =F51+H51+J51 -> 6.5
A52: 합 계 | F52: =ROUNDDOWN(SUMIF($Q$49:$Q$51, 1,$F$49:$F$51),0) -> 0 | H52: =ROUNDDOWN(SUMIF($Q$49:$Q$51, 1,$H$49:$H$51),0) -> 0 | J52: =ROUNDDOWN(SUMIF($Q$49:$Q$51, 1,$J$49:$J$51),0) -> 6 | L52: =F52+H52+J52 -> 6
A53: 양수기 | B53: 1.492kw | C53: HR | M53: 참고자료
A54: 양수기 | B54: 2HP | C54: 대 | D54: 1e-05 | I54: 30000 | J54: =ROUNDDOWN(D54*I54,1) -> 0.3 | K54: =E54+G54+I54 -> 30000 | L54: =F54+H54+J54 -> 0.3 | O54: 03 | P54: 기계경비 | Q54: 1
A55: 재료비 | K55: =E55+G55+I55 -> 0 | L55: =F55+H55+J55 -> 0
A56: 전력 | C56: ㎾h | D56: 1.49 | E56: =ROUNDDOWN(#REF!,2) -> #REF! | F56: =ROUNDDOWN(D56*E56,1) -> #REF! | K56: =E56+G56+I56 -> #REF! | L56: =F56+H56+J56 -> #REF! | M56: 물정P185(부록) | O56: 01 | P56: 기계경비 | Q56: 1
A57: 소 계 | F57: =SUMIF($Q$54:$Q$56, 1,$F$54:$F$56) -> #REF! | L57: =F57+H57+J57 -> #REF!
A58: 합 계 | F58: =ROUNDDOWN(SUMIF($Q$54:$Q$57, 1,$F$54:$F$57),0) -> #REF! | H58: =ROUNDDOWN(SUMIF($Q$54:$Q$57, 1,$H$54:$H$57),0) -> 0 | J58: =ROUNDDOWN(SUMIF($Q$54:$Q$57, 1,$J$54:$J$57),0) -> 0 | L58: =F58+H58+J58 -> #REF!
A59: 용접기 (교류) | B59: 500 AMP | C59: HR | M59: 토목11-2
A60: 경 비 | K60: =E60+G60+I60 -> 0 | L60: =F60+H60+J60 -> 0
A61: 용접기 (교류) | B61: 500 AMP | C61: 대 | D61: 0.0002294 | I61: 544000 | J61: =ROUNDDOWN(D61*I61,1) -> 124.7 | K61: =E61+G61+I61 -> 544000 | L61: =F61+H61+J61 -> 124.7 | O61: 03 | P61: 기계경비 | Q61: 1
A62: 소 계 | J62: =SUMIF($Q$60:$Q$61, 1,$J$60:$J$61) -> 124.7 | L62: =F62+H62+J62 -> 124.7
A63: 합 계 | F63: =ROUNDDOWN(SUMIF($Q$60:$Q$62, 1,$F$60:$F$62),0) -> 0 | H63: =ROUNDDOWN(SUMIF($Q$60:$Q$62, 1,$H$60:$H$62),0) -> 0 | J63: =ROUNDDOWN(SUMIF($Q$60:$Q$62, 1,$J$60:$J$62),0) -> 124 | L63: =F63+H63+J63 -> 124
A64: 치즐(구조물용) | B64: 0.7 M3용 | C64: HR | M64: 토목10-20
A65: 경 비 | K65: =E65+G65+I65 -> 0 | L65: =F65+H65+J65 -> 0
A66: 대형브레이커용치즐 | B66: 0.7 M3용 | C66: 개 | D66: 0.01 | I66: 252000 | J66: =ROUNDDOWN(D66*I66,1) -> 2520 | K66: =E66+G66+I66 -> 252000 | L66: =F66+H66+J66 -> 2520 | O66: 03 | P66: 기계경비 | Q66: 1
A67: 소 계 | J67: =SUMIF($Q$65:$Q$66, 1,$J$65:$J$66) -> 2520 | L67: =F67+H67+J67 -> 2520
A68: 합 계 | F68: =ROUNDDOWN(SUMIF($Q$65:$Q$67, 1,$F$65:$F$67),0) -> 0 | H68: =ROUNDDOWN(SUMIF($Q$65:$Q$67, 1,$H$65:$H$67),0) -> 0 | J68: =ROUNDDOWN(SUMIF($Q$65:$Q$67, 1,$J$65:$J$67),0) -> 2520 | L68: =F68+H68+J68 -> 2520
A69: 페이브먼트 브레이카 | B69: 25.0KG (55#) | C69: HR | M69: 토목11-2
A70: 경 비 | K70: =E70+G70+I70 -> 0 | L70: =F70+H70+J70 -> 0
A71: 페이브먼트 브레이카 | B71: 25.0kg (55#) | C71: 대 | D71: 0.00025 | I71: 1525000 | J71: =ROUNDDOWN(D71*I71,1) -> 381.2 | K71: =E71+G71+I71 -> 1525000 | L71: =F71+H71+J71 -> 381.2 | O71: 03 | P71: 기계경비 | Q71: 1
A72: 소 계 | J72: =SUMIF($Q$70:$Q$71, 1,$J$70:$J$71) -> 381.2 | L72: =F72+H72+J72 -> 381.2
A73: 합 계 | F73: =ROUNDDOWN(SUMIF($Q$70:$Q$72, 1,$F$70:$F$72),0) -> 0 | H73: =ROUNDDOWN(SUMIF($Q$70:$Q$72, 1,$H$70:$H$72),0) -> 0 | J73: =ROUNDDOWN(SUMIF($Q$70:$Q$72, 1,$J$70:$J$72),0) -> 381 | L73: =F73+H73+J73 -> 381

Sheet 표 지
A4: 공 내 역 서
A6: f
A7: 용역명 : 2026년도 고리2발 건설폐기물 처리용역
A11: 2026.7

Sheet 용역비예산서
A1: 용 역 비 예 산 서
A3: =#REF! -> #REF!
B5: 총 용 역 비(VAT 별도) | C5: =C6+C7 -> 0
B6: 도급용역비(VAT 별도) | C6: =C9 -> 0
B7: 사급용역비(VAT 별도) | C7: =C14+C30 -> 0
A9: 1. | B9: 설 계 용 역 비 | C9: =C11+C25+C29+F32+F33 -> 0 | E9: (2) 기계경비 | F9: 0
E10: (3) 특허권사용료 | F10: 0
B11: 가. 재 료 비 | C11: =C14+C21 -> 0 | E11: (4) 기 술 료 | F11: 0
B12: (1) 출고재료비 | E12: (5) 연구개발비 | F12: 0
B13: 본 사 분 | C13: 0 | E13: (6) 품질관리비 | F13: 0
B14: 사 업 소 분 | C14: 0 | E14: (7) 가 설 비 | F14: 0
B15: (2) 구입재료비 | E15: (8) 지급임차료 | F15: 0
B16: C P 외 자 | C16: 0 | E16: (9) 산업안전보건관리비 | F16: 0
B17: C P 내 자 | C17: 0 | E17: (10) 보 험 료
B18: L P 내 자 | C18: 0 | E18: (가) 산재보험료 | F18: 0
B19: (3) 회사운반비 | C19: 0 | E19: (나) 고용보험료 | F19: 0
B20: (4) 외자조작비 | C20: 0 | E20: (다) 국민건강보험료 | F20: 0
B21: (5) 지입재료비 | C21: 0 | E21: (라) 국민연금보험료 | F21: 0
B22: (6) 잡 재료비 | C22: 0 | E22: (마) 노인장기요양보험료 | F22: 0
B23: (7) 작업부산물 | C23: 0 | E23: (11) 퇴직공제부금비 | F23: 0
E24: (12) 기타경비 | F24: 0
B25: 나. 노 무 비 | C25: =SUM(C26:C27) -> 0 | E25: (13) 하도급대금지급보증수수료 | F25: 0
B26: (1) 직접노무비 | C26: 0 | E26: (14) 폐기물처리비 | F26: =내역서!L5 -> 0
B27: (2) 간접노무비 | C27: 0 | E27: (15) 환경보전비 | F27: 0
E28: (16) 보 상 비
B29: 다. 경 비 | C29: =C31+C30 -> 0 | E29: (17) 안전점검비
B30: 회 사 분 | C30: 0 | E30: (18) 기타법정경비
B31: 도 급 분 | C31: =SUM(F9:F31)+C32 -> 0
B32: (1) 운 반 비 | C32: 0 | E32: 라. 일반관리비 | F32: 0
E33: 마. 이 윤 | F33: 0

Sheet 내역서
A1: 내 역 서
A2: 공사명 : 2026년도 고리2발 건설폐기물 처리용역
A3: 공 종 | B3: 규 격 | C3: 수 량 | D3: 단위 | E3: 재 료 비 | G3: 노 무 비 | I3: 경 비 | K3: 합 계 | M3: 비 고
E4: 단 가(원) | F4: 금 액(원) | G4: 단 가(원) | H4: 금 액(원) | I4: 단 가(원) | J4: 금 액(원) | K4: 단 가(원) | L4: 금 액(원)
A5: *. 폐기물처리비 | C5: 0
A6: 건설폐기물 운반비 | B6: 24Ton덤프(L=30㎞이하) | C6: =C7+C8+C9 -> 1597 | D6: Ton | DL6: E000-0651
A7: 폐콘크리트 중간처리 | C7: 1227 | D7: Ton | DL7: E000-0660
A8: 폐아스콘 중간처리 | C8: 301 | D8: Ton | DL8: E000-0661
A9: 기타 건설폐재류 중간처리 | C9: 69 | D9: Ton
A10: 단수정리

Sheet 수량산출(건축)
A1: 건축물 신축 시 발생폐기물
A3: 1. 신축시 M2 당 발생폐기물량
G4: ( ton /㎡ )
A5: 구분 | D5: 콘크리트류 | E5: 금속및 철재류 | F5: 혼합폐기물 | G5: 계
A6: 건 축 물 신 축 | B6: 주거용 | C6: 단 독 주 택 | D6: 0.018 | E6: 0.0016 | F6: 0.0064 | G6: =D6+E6+F6 -> 0.026
C7: 아 파 트 | D7: 0.02 | E7: 0.002 | F7: 0.0083 | G7: =D7+E7+F7 -> 0.0303
B8: 업무용 | C8: 철근콘크리트조 | D8: 0.019 | E8: 0.0024 | F8: 0.0064 | G8: =D8+E8+F8 -> 0.0278
C9: 철 골 조 | D9: 0.012 | E9: 0.0018 | F9: 0.0064 | G9: =D9+E9+F9 -> 0.0202
C10: 철골철근콘크리트조 | D10: 0.021 | E10: 0.004 | F10: 0.0072 | G10: =D10+E10+F10 -> 0.0322
B11: 공공용 | C11: 철근 콘크리트조 | D11: 0.018 | E11: 0.0022 | F11: 0.0088 | G11: =D11+E11+F11 -> 0.029
C12: 철 골 조 | D12: 0.012 | E12: 0.0018 | F12: 0.0056 | G12: =D12+E12+F12 -> 0.0194
C13: 철골철근콘크리트조 | D13: 0.018 | E13: 0.004 | F13: 0.0056 | G13: =D13+E13+F13 -> 0.0276
G14: 2017 건설표준품셈(Page. 78)
A16: 2. 고리본부 발전통합지원센터 개요
A18: 가. 구조 : 철근콘크리트조
A19: 나. 전체 연면적 : 22,324.33 ㎡ | D19: =6255.44+22324.33 -> 28579.77
A20: 다. 동별 연면적
A22: 3. 발생 폐기물량
A23: 번 호 | C23: 종 류 | D23: 물 량 | E23: 비 고
A24: 1 | C24: 콘크리트류 | D24: =TRUNC(D19*D11,2) -> 514.43
A25: 2 | C25: 혼합폐기물류 | D25: =TRUNC(D19*F11,2) -> 251.5

Sheet 수량산출(토목)
A1: 공 종 | C1: 콘크리트 | G1: 아스콘 깨기 | I1: 아스콘 절단 | K1: 콘크리트 폐기물 | O1: 폐아스콘 처리 (단위중량:2.35) | Q1: 철 재 (고재처리) | S1: 가연성 폐기물 (폐합성 수지등) | U1: 가연성 폐기물 (목재류)
C2: 무 근 | E2: 철 근 | K2: 무근콘크리트 (단위중량:2.30) | M2: 철근콘크리트 (단위중량:2.40)
C3: m3 | E3: m3 | G3: m3 | I3: m | K3: ton | M3: ton | O3: ton | Q3: ton | S3: ton | U3: ton
A4: 아 스 콘 | B4: 아스콘포장 철거 | G4: =[252]철거산출근거!N8+[252]철거산출근거!N12 -> 540.05 | O4: =G4*2.35 -> 1269.1175
B5: 아스콘절단 | I5: =[252]철거산출근거!F15 -> 267
A6: 무 근 콘 크 리 트 | B6: 보도블록 철거 | C6: =[252]철거산출근거!N21 -> 9.06 | K6: =C6*2.3 -> 20.838
B7: 호안블록 철거 | C7: =[252]철거산출근거!N25 -> 170.2 | K7: =C7*2.3 -> 391.46
B8: L형측구 철거 | C8: =[252]철거산출근거!M30 -> 20.0625 | K8: =C8*2.3 -> 46.14375
B9: 보차도경계석 철거 (180x200x1000) | C9: =[252]철거산출근거!M35 -> 17.60825 | K9: =C9*2.3 -> 40.498975
B10: 재료분리석 철거 (150x150x1000) | C10: =[252]철거산출근거!M39 -> 2.5725 | K10: =C10*2.3 -> 5.91675
B11: 원형수로관 철거 (D200) | K11: =[252]철거산출근거!M43 -> 7.38
B12: 빗물받이 철거 (400x300) | C12: =[252]철거산출근거!M47 -> 0.4 | K12: =C12*2.3 -> 0.92
B13: 흄관 철거 (D450) | K13: =[252]철거산출근거!M51 -> 5.6
B14: 석축 철거 (B:200xH:1000) | C14: =[252]철거산출근거!M56 -> 17 | K14: =C14*2.3 -> 39.1
B15: 콘크리트계단 철거 | C15: =[252]철거산출근거!N60 -> 4.8 | K15: =C15*2.3 -> 11.04
B16: 아스콘포장 하부 콘크리트 철거 | C16: =[252]철거산출근거!N64 -> 589.8 | K16: =C16*2.3 -> 1356.54
B17: 목재계단 하부 계단 철거 | C17: =[252]철거산출근거!N68 -> 18.9 | K17: =C17*2.3 -> 43.47
B18: 콘크리트 철거 | C18: =[252]철거산출근거!N72 -> 1.6 | K18: =C18*2.3 -> 3.68
A19: 철 근 콘 크 리 트 | B19: U형측구 철거 (300x200) | E19: =[252]철거산출근거!M78 -> 57.27 | M19: =E19*2.4 -> 137.448
B20: U형측구 철거 (400x400) | E20: =[252]철거산출근거!M82 -> 4.095 | M20: =E20*2.4 -> 9.828
B21: U형측구 철거 (500x450) | E21: =[252]철거산출근거!M86 -> 33.015 | M21: =E21*2.4 -> 79.236
B22: 집수정 철거 (800x800) | E22: =[252]철거산출근거!M90 -> 1.6 | M22: =E22*2.4 -> 3.84
B23: 맨홀 철거(D900) | E23: =[252]철거산출근거!M94 -> 8 | M23: =E23*2.4 -> 19.2
B24: 옹벽 철거 (h=1.2m) | E24: =[252]철거산출근거!M98 -> 27 | M24: =E24*2.4 -> 64.8
A25: 철 재 | B25: 능형망휀스 철거 (h=2.0m) | Q25: =[252]철거산출근거!N104 -> 0.45
A26: 가 연 성 | B26: PVC관 철거 (D200) | S26: =[252]철거산출근거!O110 -> 0.00102
B27: 목재계단 철거 | U27: =[252]철거산출근거!O116 -> 0.63
B28: 임목폐기물 철거 | U28: 202
A35: 소 계 | C35: =SUM(C4:D34) -> 852.00325 | E35: =SUM(E4:F34) -> 130.98 | G35: =SUM(G4:H34) -> 540.05 | I35: =SUM(I4:J34) -> 267 | K35: =SUM(K4:L34) -> 1972.5875 | M35: =SUM(M4:N34) -> 314.352 | O35: =SUM(O4:P34) -> 1269.1175 | Q35: =SUM(Q4:R34) -> 0.45 | S35: =SUM(S4:T34) -> 0.00102 | U35: =SUM(U4:V34) -> 202.63

Sheet 주자재물량산출서
A1: 주자재물량산출서
A2: 공사명 : 한울본부 노후사택(111동) 종합개보수공사
A3: 위치 | B3: 부위 | C3: 내역명 | D3: 일위대가 | H3: 주자재 | L3: 수량 | M3: 비고
D4: 품명 | E4: 규격 | F4: 단위 | G4: 수량 | H4: 품명 | I4: 규격 | J4: 단위 | K4: 수량
A5: [ 조적공사 ]
A6: 내부 조적 | B6: 현관SD1 | C6: 조적공사 | D6: 1.0B 시멘트벽돌쌓기 | E6: 3.6m이하 | F6: ㎡ | G6: =마감물량산출서!I369 -> 36.09 | H6: 시멘트벽돌 | I6: 190*90*57 | J6: 매 | K6: 149 | L6: =G6*K6 -> 5377.41
A7: 내부 조적 | B7: 현관PD- 3면 | C7: 조적공사 | D7: 0.5B 시멘트벽돌쌓기 | E7: 3.6m이하 | F7: ㎡ | G7: =마감물량산출서!I375 -> 217.08 | H7: 시멘트벽돌 | I7: 190*90*57 | J7: 매 | K7: 75 | L7: =G7*K7 -> 16281
A8: 내부 조적 | B8: 침실1-거실벽 | C8: 조적공사 | D8: 1.0B 시멘트벽돌쌓기 | E8: 3.6m이하 | F8: ㎡ | G8: =마감물량산출서!I382 -> 287.01 | H8: 시멘트벽돌 | I8: 190*90*57 | J8: 매 | K8: 149 | L8: =G8*K8 -> 42764.49
A9: 내부 조적 | B9: 침실1 - 침실2 | C9: 조적공사 | D9: 1.0B 시멘트벽돌쌓기 | E9: 3.6m이하 | F9: ㎡ | G9: =마감물량산출서!I388 -> 262.89 | H9: 시멘트벽돌 | I9: 190*90*57 | J9: 매 | K9: 149 | L9: =G9*K9 -> 39170.61
A10: 내부 조적 | B10: 침실1 - 내욕실+발코니1 | C10: 조적공사 | D10: 1.0B 시멘트벽돌쌓기 | E10: 3.6m이하 | F10: ㎡ | G10: =마감물량산출서!I394 -> 153.78 | H10: 시멘트벽돌 | I10: 190*90*57 | J10: 매 | K10: 149 | L10: =G10*K10 -> 22913.22
A11: 내부 조적 | B11: 내욕실 - 발코니 | C11: 조적공사 | D11: 1.0B 시멘트벽돌쌓기 | E11: 3.6m이하 | F11: ㎡ | G11: =마감물량산출서!I405 -> 109.02 | H11: 시멘트벽돌 | I11: 190*90*57 | J11: 매 | K11: 149 | L11: =G11*K11 -> 16243.98
A12: 내부 조적 | B12: 내욕실 - 외부 | C12: 조적공사 | D12: 1.0B 시멘트벽돌쌓기 | E12: 3.6m이하 | F12: ㎡ | G12: =마감물량산출서!I411 -> 77.4 | H12: 시멘트벽돌 | I12: 190*90*57 | J12: 매 | K12: 149 | L12: =G12*K12 -> 11532.6
A13: 내부 조적 | B13: 내욕실 - PD | C13: 조적공사 | D13: 0.5B 시멘트벽돌쌓기 | E13: 3.6m이하 | F13: ㎡ | G13: =마감물량산출서!I417 -> 94.86 | H13: 시멘트벽돌 | I13: 190*90*57 | J13: 매 | K13: 75 | L13: =G13*K13 -> 7114.5
A14: 내부 조적 | B14: 침실 2 - 주방 | C14: 조적공사 | D14: 1.0B 시멘트벽돌쌓기 | E14: 3.6m이하 | F14: ㎡ | G14: =마감물량산출서!I427 -> 381.48 | H14: 시멘트벽돌 | I14: 190*90*57 | J14: 매 | K14: 149 | L14: =G14*K14 -> 56840.52
A15: 내부 조적 | B15: 침실 2 - 외부 | C15: 조적공사 | D15: 1.0B 시멘트벽돌쌓기 | E15: 3.6m이하 | F15: ㎡ | G15: =마감물량산출서!I433 -> 122.16 | H15: 시멘트벽돌 | I15: 190*90*57 | J15: 매 | K15: 149 | L15: =G15*K15 -> 18201.84
A16: 내부 조적 | B16: 욕실 - 주방 | C16: 조적공사 | D16: 1.0B 시멘트벽돌쌓기 | E16: 3.6m이하 | F16: ㎡ | G16: =마감물량산출서!I440 -> 301.5 | H16: 시멘트벽돌 | I16: 190*90*57 | J16: 매 | K16: 149 | L16: =G16*K16 -> 44923.5
A17: 내부 조적 | B17: 거실장 벽 | C17: 조적공사 | D17: 0.5B 시멘트벽돌쌓기 | E17: 3.6m이하 | F17: ㎡ | G17: =마감물량산출서!I446 -> 116.58 | H17: 시멘트벽돌 | I17: 190*90*57 | J17: 매 | K17: 75 | L17: =G17*K17 -> 8743.5
A18: 내부 조적 | B18: 욕실 - PD2 | C18: 조적공사 | D18: 0.5B 시멘트벽돌쌓기 | E18: 3.6m이하 | F18: ㎡ | G18: =마감물량산출서!I452 -> 76.23 | H18: 시멘트벽돌 | I18: 190*90*57 | J18: 매 | K18: 75 | L18: =G18*K18 -> 5717.25
A19: 내부 조적 | B19: 세면기 보강벽 | C19: 조적공사 | D19: 0.5B 시멘트벽돌쌓기 | E19: 3.6m이하 | F19: ㎡ | G19: =마감물량산출서!I461 -> 110.55 | H19: 시멘트벽돌 | I19: 190*90*57 | J19: 매 | K19: 75 | L19: =G19*K19 -> 8291.25
A20: 내부 조적 | B20: 침실3- 거실 2면 | C20: 조적공사 | D20: 1.0B 시멘트벽돌쌓기 | E20: 3.6m이하 | F20: ㎡ | G20: =마감물량산출서!I468 -> 298.65 | H20: 시멘트벽돌 | I20: 190*90*57 | J20: 매 | K20: 149 | L20: =G20*K20 -> 44498.85
A21: 내부 조적 | B21: 침실3- 발코니2 | C21: 조적공사 | D21: 1.0B 시멘트벽돌쌓기 | E21: 3.6m이하 | F21: ㎡ | G21: =마감물량산출서!I474 -> 118.8 | H21: 시멘트벽돌 | I21: 190*90*57 | J21: 매 | K21: 149 | L21: =G21*K21 -> 17701.2
A22: 내부 조적 | B22: 외 벽 | C22: 조적공사 | D22: 1.0B 시멘트벽돌쌓기 | E22: 3.6m이하 | F22: ㎡ | G22: =마감물량산출서!I484 -> 349.41 | H22: 시멘트벽돌 | I22: 190*90*57 | J22: 매 | K22: 149 | L22: =G22*K22 -> 52062.09
A23: 내부 조적 | B23: 거실 - 계단실 벽 | C23: 조적공사 | D23: 0.5B 시멘트벽돌쌓기 | E23: 3.6m이하 | F23: ㎡ | G23: =마감물량산출서!I491 -> 175.5 | H23: 시멘트벽돌 | I23: 190*90*57 | J23: 매 | K23: 75 | L23: =G23*K23 -> 13162.5
A24: 내부 조적 | B24: 거실 - 발코니1 | C24: 조적공사 | D24: 1.0B 시멘트벽돌쌓기 | E24: 3.6m이하 | F24: ㎡ | G24: =마감물량산출서!I497 -> 54 | H24: 시멘트벽돌 | I24: 190*90*57 | J24: 매 | K24: 149 | L24: =G24*K24 -> 8046
A25: 내부 조적 | C25: 조적공사 | D25: 1.0B 시멘트벽돌쌓기 | E25: 3.6m이하 | F25: ㎡ | G25: =마감물량산출서!I504 -> 368.25 | H25: 시멘트벽돌 | I25: 190*90*57 | J25: 매 | K25: 149 | L25: =G25*K25 -> 54869.25
A26: 기타 조적 | B26: 침실3- 침실3 - 양면 | C26: 조적공사 | D26: 0.5B 시멘트벽돌쌓기 | E26: 3.6m이하 | F26: ㎡ | G26: =마감물량산출서!I514 -> 282.15 | H26: 시멘트벽돌 | I26: 190*90*57 | J26: 매 | K26: 75 | L26: =G26*K26 -> 21161.25
A27: 기타 조적 | B27: 발코니2 칸막이 | C27: 조적공사 | D27: 0.5B 시멘트벽돌쌓기 | E27: 3.6m이하 | F27: ㎡ | G27: =마감물량산출서!I520 -> 40.5 | H27: 시멘트벽돌 | I27: 190*90*57 | J27: 매 | K27: 75 | L27: =G27*K27 -> 3037.5
A28: 기타 조적 | B28: 침실 1 - 침실1 | C28: 조적공사 | D28: 0.5B 시멘트벽돌쌓기 | E28: 3.6m이하 | F28: ㎡ | G28: =마감물량산출서!I527 -> 294.75 | H28: 시멘트벽돌 | I28: 190*90*57 | J28: 매 | K28: 75 | L28: =G28*K28 -> 22106.25
A29: 기타 조적 | B29: 침실 1 - 침실1 | C29: 조적공사 | D29: 0.5B 시멘트벽돌쌓기 | E29: 3.6m이하 | F29: ㎡ | G29: =마감물량산출서!I534 -> 147.375 | H29: 시멘트벽돌 | I29: 190*90*57 | J29: 매 | K29: 75 | L29: =G29*K29 -> 11053.125
A30: 1층 ㅡ 기계길 유 | C30: 조적공사 | D30: 1.0B 시멘트벽돌쌓기 | E30: 3.6m이하 | F30: ㎡ | G30: =마감물량산출서!I602 -> 2.07 | H30: 시멘트벽돌 | I30: 190*90*57 | J30: 매 | K30: 149 | L30: =G30*K30 -> 308.43
A31: 1층 ㅡ 기계실 무 | C31: 조적공사 | D31: 1.0B 시멘트벽돌쌓기 | E31: 3.6m이하 | F31: ㎡ | G31: =마감물량산출서!I630 -> 4.14 | H31: 시멘트벽돌 | I31: 190*90*57 | J31: 매 | K31: 149 | L31: =G31*K31 -> 616.86 | Q31: =SUM(L6:L31) -> 552738.98 | R31: 벽돌합계
A32: [ 타일및석공사 ] | Q32: =G7+G13+G17+G18+G19+G23+G26+G27+G28+G29 -> 1555.575 | R32: 0.5 쌓기
A33: 현관 | C33: 타일및석공사 | D33: 자기질타일 | E33: 무유색소, 300*300*8~11 | F33: M2 | G33: =마감물량산출서!I127 -> 37.05 | H33: 타일압착붙임(8mm) | I33: 바닥, 타일 0.04~0.10㎡ 이하 | J33: M2 | K33: 1 | L33: =G33 -> 37.05 | Q33: =G6+G8+G9+G10+G11+G12+G14+G15+G16+G20+G21+G22+G24+G25+G30+G31 -> 2926.65 | R33: 1.0 쌓시
A34: 거실 주방 | B34: 싱크대 하부 | C34: 타일및석공사 | D34: 도기질타일 | E34: 일반색, 300*600 | F34: M2 | G34: =마감물량산출서!I254 -> 86.4 | H34: 타일떠붙임(24mm) | I34: 벽, 타일 0.11~0.20㎡ 이하 | J34: M2 | K34: 1 | L34: =G34 -> 86.4
A35: 공사명 : 한울본부 노후사택(103동) 종합개보수공사
A36: 위치 | B36: 부위 | C36: 내역명 | D36: 일위대가 | H36: 주자재 | L36: 수량
D37: 품명 | E37: 규격 | F37: 단위 | G37: 수량 | H37: 품명 | I37: 규격 | J37: 단위 | K37: 수량
A38: 욕실 | B38: 전체- 욕조 | C38: 타일및석공사 | D38: 자기질타일 | E38: 무유색소, 300*300*8~11 | F38: M2 | G38: =마감물량산출서!I276 -> 74.25 | H38: 타일압착붙임(8mm) | I38: 바닥, 타일 0.04~0.10㎡ 이하 | J38: M2 | K38: 1 | L38: =G38 -> 74.25
A39: 욕실 | B39: 벽 | C39: 타일및석공사 | D39: 도기질타일 | E39: 일반색, 300*600 | F39: M2 | G39: =마감물량산출서!I281 -> 498 | H39: 타일떠붙임(24mm) | I39: 벽, 타일 0.11~0.20㎡ 이하 | J39: M2 | K39: 1 | L39: =G39 -> 498
A40: 욕실 | B40: -욕조 벽 | C40: 타일및석공사 | D40: 도기질타일 | E40: 일반색, 300*600 | F40: M2 | G40: =마감물량산출서!I282 -> -69.75 | H40: 타일떠붙임(24mm) | I40: 벽, 타일 0.11~0.20㎡ 이하 | J40: M2 | K40: 1 | L40: =G40 -> -69.75
A41: 내욕실 | B41: 바닥 | C41: 타일및석공사 | D41: 자기질타일 | E41: 무유색소, 300*300*8~11 | F41: M2 | G41: =마감물량산출서!I299 -> 62.1 | H41: 타일압착붙임(8mm) | I41: 바닥, 타일 0.04~0.10㎡ 이하 | J41: M2 | K41: 1 | L41: =G41 -> 62.1
A42: 내욕실 | B42: 벽 | C42: 타일및석공사 | D42: 도기질타일 | E42: 일반색, 300*600 | F42: M2 | G42: =마감물량산출서!I304 -> 345.9 | H42: 타일떠붙임(24mm) | I42: 벽, 타일 0.11~0.20㎡ 이하 | J42: M2 | K42: 1 | L42: =G42 -> 345.9
A43: 발코니 ㅡ 1 | B43: 바닥 | C43: 타일및석공사 | D43: 자기질타일 | E43: 무유색소, 300*300*8~11 | F43: M2 | G43: =마감물량산출서!I313 -> 193.86 | H43: 타일압착붙임(8mm) | I43: 바닥, 타일 0.04~0.10㎡ 이하 | J43: M2 | K43: 1 | L43: =G43 -> 193.86
A44: 발코니 ㅡ 2 | B44: 바닥 | C44: 타일및석공사 | D44: 자기질타일 | E44: 무유색소, 300*300*8~11 | F44: M2 | G44: =마감물량산출서!I333 -> 78.75 | H44: 타일압착붙임(8mm) | I44: 바닥, 타일 0.04~0.10㎡ 이하 | J44: M2 | K44: 1 | L44: =G44 -> 78.75
A45: [ 창호공사 ]
A46: SSD1 | C46: 창호공사 | D46: 세이프강화도어(락2000) | E46: 12T*900mm*2100mm 투명 | F46: SET | G46: =마감물량산출서!I7 -> 6 | H46: 후로아힌지달기 | I46: 강화유리문용 | J46: 개소 | K46: 1 | L46: =G46 -> 6
A47: [ 유리공사 ]
A48: SSD1 | C48: 유리공사 | D48: 강화유리 | E48: 8mm 투명 | F48: M2 | G48: =마감물량산출서!I6 -> 4.371 | H48: 유리끼우기및닦기 | I48: 10mm미만 | J48: M2 | K48: 1 | L48: =G48 -> 4.371
A49: PD3 | C49: 유리공사 | D49: 강화유리 | E49: 8mm 칼라 | F49: M2 | G49: =마감물량산출서!I38 -> 63 | H49: 유리끼우기및닦기 | I49: 10mm미만 | J49: M2 | K49: 1 | L49: =G49 -> 63
A50: PD4 | C50: 유리공사 | D50: 복층유리 | E50: 16mm 투명 | F50: M2 | G50: =마감물량산출서!I44 -> 162.39 | H50: 유리끼우기및닦기 | I50: 복층유리 16mm | J50: M2 | K50: 1 | L50: =G50 -> 162.39
A51: PD5 | C51: 유리공사 | D51: 맑은유리 | E51: 5mm | F51: M2 | G51: =마감물량산출서!I50 -> 11.22 | H51: 유리끼우기및닦기 | I51: AL.PL 5mm이하 | J51: M2 | K51: 1 | L51: =G51 -> 11.22
A52: PW1 | C52: 유리공사 | D52: 맑은유리 | E52: 5mm 투명 | F52: M2 | G52: =마감물량산출서!I55 -> 45 | H52: 유리끼우기및닦기 | I52: AL.PL 5mm이하 | J52: M2 | K52: 1 | L52: =G52 -> 45
A53: PW1 | C53: 유리공사 | D53: 무늬유리 | E53: 5mm 불투명 | F53: M2 | G53: =마감물량산출서!I56 -> 45 | H53: 유리끼우기및닦기 | I53: AL.PL 5mm이하 | J53: M2 | K53: 1 | L53: =G53 -> 45
A54: PW2 | C54: 유리공사 | D54: 맑은유리 | E54: 5mm 투명 | F54: M2 | G54: =마감물량산출서!I61 -> 34.92 | H54: 유리끼우기및닦기 | I54: AL.PL 5mm이하 | J54: M2 | K54: 1 | L54: =G54 -> 34.92
A55: PW2 | C55: 유리공사 | D55: 무늬유리 | E55: 5mm 불투명 | F55: M2 | G55: =마감물량산출서!I62 -> 34.92 | H55: 유리끼우기및닦기 | I55: AL.PL 5mm이하 | J55: M2 | K55: 1 | L55: =G55 -> 34.92
A56: AW1 | C56: 유리공사 | D56: 복층유리 | E56: 22㎜ 로이칼라 | F56: M2 | G56: =마감물량산출서!I67 -> 686.25 | H56: 유리끼우기및닦기 | I56: 복층유리 22mm | J56: M2 | K56: 1 | L56: =G56 -> 686.25
A57: AW2 | C57: 유리공사 | D57: 복층유리 | E57: 22㎜ 로이칼라 | F57: M2 | G57: =마감물량산출서!I75 -> 69.87 | H57: 유리끼우기및닦기 | I57: 복층유리 22mm | J57: M2 | K57: 1 | L57: =G57 -> 69.87
A58: AW3 | C58: 유리공사 | D58: 복층유리 | E58: 22㎜ 로이칼라 | F58: M2 | G58: =마감물량산출서!I80 -> 98.34 | H58: 유리끼우기및닦기 | I58: 복층유리 22mm | J58: M2 | K58: 1 | L58: =G58 -> 98.34
A59: AW4 | C59: 유리공사 | D59: 복층유리 | E59: 22㎜ 로이칼라 | F59: M2 | G59: =마감물량산출서!I85 -> 36.39 | H59: 유리끼우기및닦기 | I59: 복층유리 22mm | J59: M2 | K59: 1 | L59: =G59 -> 36.39
A60: AW5 | C60: 유리공사 | D60: 복층유리 | E60: 22㎜ 로이칼라 | F60: M2 | G60: =마감물량산출서!I90 -> 18.63 | H60: 유리끼우기및닦기 | I60: 복층유리 22mm | J60: M2 | K60: 1 | L60: =G60 -> 18.63
A61: AW6 | C61: 유리공사 | D61: 복층유리 | E61: 22㎜ 로이칼라 | F61: M2 | G61: =마감물량산출서!I98 -> 76.137 | H61: 유리끼우기및닦기 | I61: 복층유리 22mm | J61: M2 | K61: 1 | L61: =G61 -> 76.137
A62: AW7 | C62: 유리공사 | D62: 복층유리 | E62: 22㎜ 로이칼라 | F62: M2 | G62: =마감물량산출서!I103 -> 13.71 | H62: 유리끼우기및닦기 | I62: 복층유리 22mm | J62: M2 | K62: 1 | L62: =G62 -> 13.71 | Q62: =SUM(L56:L62) -> 999.327 | R62: 유리합계 22mm
A63: [ 도장공사 ]
A64: 발코니 ㅡ 1 | B64: 벽(걸레받이공제) | C64: 도장공사 | D64: 다채무늬도료 | E64: 알칼리성면 | F64: M2 | G64: =마감물량산출서!I319 -> 308.7 | H64: 바탕만들기 | I64: 콘크리트,몰탈면(벽) | J64: M2 | K64: 1 | L64: =G64 -> 308.7
A65: 발코니 ㅡ 2 | B65: 벽(걸레받이공제) | C65: 도장공사 | D65: 다채무늬도료 | E65: 알칼리성면 | F65: M2 | G65: =마감물량산출서!I337 -> 313.11 | H65: 바탕만들기 | I65: 콘크리트,몰탈면(벽) | J65: M2 | K65: 1 | L65: =G65 -> 313.11
A66: 지붕 | B66: 처마 하부 | C66: 도장공사 | D66: 수성페인트 로울러칠 | E66: 외벽 2회 2급 | F66: M2 | G66: =마감물량산출서!I712 -> 28.8 | H66: 바탕만들기 | I66: 콘크리트,몰탈면(벽) | J66: M2 | K66: 1 | L66: =G66 -> 28.8
A67: 지붕 | B67: 처마 하부-전후 좌 | C67: 도장공사 | D67: 수성페인트 로울러칠 | E67: 외벽 2회 2급 | F67: M2 | G67: =마감물량산출서!I719 -> 11.94 | H67: 바탕만들기 | I67: 콘크리트,몰탈면(벽) | J67: M2 | K67: 1 | L67: =G67 -> 11.94
A68: 공사명 : 한울본부 노후사택(104동) 종합개보수공사
A69: 위치 | B69: 부위 | C69: 내역명 | D69: 일위대가 | H69: 주자재 | L69: 수량
D70: 품명 | E70: 규격 | F70: 단위 | G70: 수량 | H70: 품명 | I70: 규격 | J70: 단위 | K70: 수량
A71: 지붕 | B71: 처마 하부 | C71: 도장공사 | D71: 수성페인트 로울러칠 | E71: 외벽 2회 2급 | F71: M2 | G71: =마감물량산출서!I726 -> 10.8 | H71: 바탕만들기 | I71: 콘크리트,몰탈면(벽) | J71: M2 | K71: 1 | L71: =G71 -> 10.8 | Q71: =SUM(L64:L71) -> 673.35
A72: [ 철거공사 ]
A73: 지하 기계실 | B73: 참 | C73: 철거공사 | D73: 화강석 철거 | E73: 테라죠판 | F73: M2 | G73: =마감물량산출서!I580 -> 9.45 | H73: 폐기물 운반비 | I73: 15TON -- 30KM이내 | J73: TON | K73: 0.075 | L73: =G73*K73 -> 0.70875
A74: 지하 기계실 | B74: 참 | C74: 철거공사 | D74: 화강석 철거 | E74: 테라죠판 | F74: M2 | G74: =G73 -> 9.45 | H74: 폐자재처리수수료 | I74: 폐콘크리트 | J74: TON | K74: 0.075 | L74: =G74*K74 -> 0.70875
A75: 지하 기계실 | B75: 계단 | C75: 철거공사 | D75: 화강석 철거 | E75: 테라죠판 | F75: M2 | G75: =마감물량산출서!I581 -> 6.16 | H75: 폐기물 운반비 | I75: 15TON -- 30KM이내 | J75: TON | K75: 0.075 | L75: =G75*K75 -> 0.462
A76: 지하 기계실 | B76: 계단 | C76: 철거공사 | D76: 화강석 철거 | E76: 테라죠판 | F76: M2 | G76: =G75 -> 6.16 | H76: 폐자재처리수수료 | I76: 폐콘크리트 | J76: TON | K76: 0.075 | L76: =G76*K76 -> 0.462
A77: 1층 ㅡ 기계길 유 | B77: 참 | C77: 철거공사 | D77: 화강석 철거 | E77: 테라죠판 | F77: M2 | G77: =마감물량산출서!I605 -> 20.43 | H77: 폐기물 운반비 | I77: 15TON -- 30KM이내 | J77: TON | K77: 0.075 | L77: =G77*K77 -> 1.53225
A78: 1층 ㅡ 기계길 유 | B78: 참 | C78: 철거공사 | D78: 화강석 철거 | E78: 테라죠판 | F78: M2 | G78: =G77 -> 20.43 | H78: 폐자재처리수수료 | I78: 폐콘크리트 | J78: TON | K78: 0.075 | L78: =G78*K78 -> 1.53225
A79: 1층 ㅡ 기계길 유 | B79: 계단 | C79: 철거공사 | D79: 화강석 철거 | E79: 테라죠판 | F79: M2 | G79: =마감물량산출서!I606 -> 13.44 | H79: 폐기물 운반비 | I79: 15TON -- 30KM이내 | J79: TON | K79: 0.075 | L79: =G79*K79 -> 1.008
A80: 1층 ㅡ 기계길 유 | B80: 계단 | C80: 철거공사 | D80: 화강석 철거 | E80: 테라죠판 | F80: M2 | G80: =G79 -> 13.44 | H80: 폐자재처리수수료 | I80: 폐콘크리트 | J80: TON | K80: 0.075 | L80: =G80*K80 -> 1.008
A81: 1층 ㅡ 기계실 무 | B81: 참 | C81: 철거공사 | D81: 화강석 철거 | E81: 테라죠판 | F81: M2 | G81: =마감물량산출서!I633 -> 44.422 | H81: 폐기물 운반비 | I81: 15TON -- 30KM이내 | J81: TON | K81: 0.075 | L81: =G81*K81 -> 3.33165
A82: 1층 ㅡ 기계실 무 | B82: 참 | C82: 철거공사 | D82: 화강석 철거 | E82: 테라죠판 | F82: M2 | G82: =G81 -> 44.422 | H82: 폐자재처리수수료 | I82: 폐콘크리트 | J82: TON | K82: 0.075 | L82: =G82*K82 -> 3.33165
A83: 1층 ㅡ 기계실 무 | B83: 계단 | C83: 철거공사 | D83: 화강석 철거 | E83: 테라죠판 | F83: M2 | G83: =마감물량산출서!I634 -> 26.88 | H83: 폐기물 운반비 | I83: 15TON -- 30KM이내 | J83: TON | K83: 0.075 | L83: =G83*K83 -> 2.016
A84: 1층 ㅡ 기계실 무 | B84: 계단 | C84: 철거공사 | D84: 화강석 철거 | E84: 테라죠판 | F84: M2 | G84: =G83 -> 26.88 | H84: 폐자재처리수수료 | I84: 폐콘크리트 | J84: TON | K84: 0.075 | L84: =G84*K84 -> 2.016
A85: 2ㅡ4층 | B85: 참 | C85: 철거공사 | D85: 화강석 철거 | E85: 테라죠판 | F85: M2 | G85: =마감물량산출서!I655 -> 67.563 | H85: 폐기물 운반비 | I85: 15TON -- 30KM이내 | J85: TON | K85: 0.075 | L85: =G85*K85 -> 5.067225
A86: 2ㅡ4층 | B86: 참 | C86: 철거공사 | D86: 화강석 철거 | E86: 테라죠판 | F86: M2 | G86: =G85 -> 67.563 | H86: 폐자재처리수수료 | I86: 폐콘크리트 | J86: TON | K86: 0.075 | L86: =G86*K86 -> 5.067225
A87: 2ㅡ4층 | B87: 계단 | C87: 철거공사 | D87: 화강석 철거 | E87: 테라죠판 | F87: M2 | G87: =마감물량산출서!I656 -> 96.768 | H87: 폐기물 운반비 | I87: 15TON -- 30KM이내 | J87: TON | K87: 0.075 | L87: =G87*K87 -> 7.2576
A88: 2ㅡ4층 | B88: 계단 | C88: 철거공사 | D88: 화강석 철거 | E88: 테라죠판 | F88: M2 | G88: =마감물량산출서!I656 -> 96.768 | H88: 폐자재처리수수료 | I88: 폐콘크리트 | J88: TON | K88: 0.075 | L88: =G88*K88 -> 7.2576
A89: 5층 | B89: 참 | C89: 철거공사 | D89: 화강석 철거 | E89: 테라죠판 | F89: M2 | G89: =마감물량산출서!I672 -> 14.85 | H89: 폐기물 운반비 | I89: 15TON -- 30KM이내 | J89: TON | K89: 0.075 | L89: =G89*K89 -> 1.11375
A90: 5층 | B90: 참 | C90: 철거공사 | D90: 화강석 철거 | E90: 테라죠판 | F90: M2 | G90: =G89 -> 14.85 | H90: 폐자재처리수수료 | I90: 폐콘크리트 | J90: TON | K90: 0.075 | L90: =G90*K90 -> 1.11375
A91: 내부 마감 철거 | B91: 난방 | C91: 철거공사 | D91: 무근콘크리트 철거 | E91: 소형브레이커 | F91: M3 | G91: =마감물량산출서!I859 -> 83.37 | H91: 폐기물 운반비 | I91: 15TON -- 30KM이내 | J91: TON | K91: 2.3 | L91: =G91*K91 -> 191.751
A92: 내부 마감 철거 | B92: 난방 | C92: 철거공사 | D92: 무근콘크리트 철거 | E92: 소형브레이커 | F92: M3 | G92: =G91 -> 83.37 | H92: 폐자재처리수수료 | I92: 폐콘크리트 | J92: TON | K92: 2.3 | L92: =G92*K92 -> 191.751
A93: 내부 마감 철거 | B93: 바닥 | C93: 철거공사 | D93: 비닐시트철거 | F93: M2 | G93: =마감물량산출서!I860 -> 833.7 | H93: 폐기물 운반비 | I93: 15TON -- 30KM이내 | J93: TON | K93: 0.0044 | L93: =G93*K93 -> 3.66828
A94: 내부 마감 철거 | B94: 바닥 | C94: 철거공사 | D94: 비닐시트철거 | F94: M2 | G94: =G93 -> 833.7 | H94: 폐자재처리수수료 | I94: 혼합건설폐기물(폐합성수지) | J94: TON | K94: 0.0044 | L94: =G94*K94 -> 3.66828
A95: 내부 마감 철거 | B95: 벽 | C95: 철거공사 | D95: 벽지철거 | F95: M2 | G95: =마감물량산출서!I861 -> 1224 | H95: 폐기물 운반비 | I95: 15TON -- 30KM이내 | J95: TON | K95: 0.0124 | L95: =G95*K95 -> 15.1776
A96: 내부 마감 철거 | B96: 벽 | C96: 철거공사 | D96: 벽지철거 | F96: M2 | G96: =G95 -> 1224 | H96: 폐자재처리수수료 | I96: 혼합건설폐기물(폐합성수지) | J96: TON | K96: 0.0124 | L96: =G96*K96 -> 15.1776
A97: 내부 마감 철거 | B97: 천정지 | C97: 철거공사 | D97: 벽지철거 | F97: M2 | G97: =마감물량산출서!I862 -> 833.7 | H97: 폐기물 운반비 | I97: 15TON -- 30KM이내 | J97: TON | K97: 0.0124 | L97: =G97*K97 -> 10.33788
A98: 내부 마감 철거 | B98: 천정지 | C98: 철거공사 | D98: 벽지철거 | F98: M2 | G98: =G97 -> 833.7 | H98: 폐자재처리수수료 | I98: 혼합건설폐기물(폐합성수지) | J98: TON | K98: 0.0124 | L98: =G98*K98 -> 10.33788
A99: 내부 마감 철거 | B99: 천정 | C99: 철거공사 | D99: 반자틀철거 | E99: 반자틀+합판 | F99: M2 | G99: =마감물량산출서!I863 -> 833.7 | H99: 폐기물 운반비 | I99: 15TON -- 30KM이내 | J99: TON | K99: 0.006 | L99: =G99*K99 -> 5.0022
A100: 내부 마감 철거 | B100: 천정 | C100: 철거공사 | D100: 반자틀철거 | E100: 반자틀+합판 | F100: M2 | G100: =G99 -> 833.7 | H100: 폐자재처리수수료 | I100: 혼합건설폐기물(페보드.판넬) | J100: TON | K100: 0.006 | L100: =G100*K100 -> 5.0022
...

Sheet 마감물량산출서
A1: 마감산출서
A2: 공사명 : 한울본부 노후사택(103동) 종합개보수공사
A3: 위치 | B3: 품명 | C3: 규격 | D3: 단위 | E3: 부위 | F3: 산출식 | G3: 물량 | H3: 개소 | I3: 수량 | J3: 비고 | L3: 당초물량 | M3: 개소 | N3: 당초수량 | O3: 증감
A4: SSD1 / 2700*2050(면적:5.535) | B4: 스텐창호(헤어라인)-문틀 | C4: 100*40*1.5T | D4: M | F4: ((2.7+2.05)*2)-1.8 | G4: 7.7 | L4: 7.7
B5: 스텐창호(헤어라인)- 중간틀 | C5: 100*40*1.5T | D5: M | F5: 2.05*2 | G5: 4.1 | L5: 4.1
B6: 강화유리 | C6: 8mm 투명 | D6: M2 | F6: (0.37*1.97*2) | G6: 1.457 | H6: 3 | I6: =G6*H6 -> 4.371 | L6: 1.457 | M6: 3 | N6: 4.371 | O6: =I6-N6 -> 0
B7: 세이프강화도어(락2000) | C7: 12T*900mm*2100mm 투명 | D7: SET | F7: 2 | G7: 2 | H7: 3 | I7: =G7*H7 -> 6 | L7: 2 | M7: 3 | N7: 6 | O7: =I7-N7 -> 0
B8: 창틀주위 단열폼 충진 | C8: 우레탄폼(10mm) | D8: M | E8: 충진몰탈(3면) | F8: (2.7+2.05*2) | G8: 6.8 | H8: 3 | I8: =G8*H8 -> 20.4 | L8: 6.8 | M8: 3 | N8: 20.4 | O8: =I8-N8 -> 0
B9: 창호주위 수밀코킹(10mm각) | C9: 실리콘,내부 | D9: M | E9: 창호코킹(3면) | F9: (2.7+2.05*2)*2 | G9: 6.8 | H9: 3 | I9: =G9*H9 -> 20.4 | L9: 6.8 | M9: 3 | N9: 20.4 | O9: =I9-N9 -> 0
B10: 유리주위코킹 | C10: 복층유리 5*5,실리콘 | D10: M | F10: ((0.37+1.97)*2*2)*2 | G10: =((0.37+1.97)*2*2)*2 -> 18.72 | H10: 3 | I10: =G10*H10 -> 56.16 | L10: 9.36 | M10: 3 | N10: 28.08 | O10: =I10-N10 -> 28.08 | P10: 물량증가-안쪽과 바깥쪽
A11: SD1 / 900*2100(면적:1.89) | B11: 방화문 | C11: 민자 900*2100 | D11: SET | F11: 1 | G11: 1 | H11: 30 | I11: =G11*H11 -> 30 | L11: 1 | O11: =I11-N11 -> 30
B12: 도아록설치 | C12: 일체형 전자도어록 | D12: 개소 | F12: 1 | G12: 1 | H12: 30 | I12: =G12*H12 -> 30 | L12: 1 | M12: 30 | N12: 30 | O12: =I12-N12 -> 0
B13: 피벗힌지 | C13: 140kg이하 ㉿K-1400 | D13: 조 | F13: 1 | G13: 1 | H13: 30 | I13: =G13*H13 -> 30 | L13: 1 | M13: 30 | N13: 30 | O13: =I13-N13 -> 0
B14: 도아체크달기(강재) | C14: 3호.보통용 | D14: 개소 | F14: 1 | G14: 1 | H14: 30 | I14: =G14*H14 -> 30 | L14: 1 | M14: 30 | N14: 30 | O14: =I14-N14 -> 0
B15: 창호주위 수밀코킹(10mm각) | C15: 실리콘,내부 | D15: M | F15: (0.9+2.1)*2 | G15: =(0.9+2.1)*2 -> 6 | H15: 30 | I15: =G15*H15 -> 180 | L15: 5.1 | M15: 30 | N15: 153 | O15: =I15-N15 -> 27 | P15: 물량증가-문틀하부도 사춤
B16: 도어스토퍼설치 | C16: 말굽 | D16: EA | F16: 1 | G16: 1 | H16: 30 | I16: =G16*H16 -> 30 | L16: 0 | M16: 0 | N16: 0 | O16: =I16-N16 -> 30 | P16: 신규추가
B17: 창틀주위 단열폼 충진 | C17: 우레탄폼(10mm) | D17: M | F17: (0.9+2.1)*2 | G17: =(0.9+2.1)*2 -> 6 | H17: 30 | I17: =G17*H17 -> 180 | L17: 5.1 | M17: 30 | N17: 153 | O17: =I17-N17 -> 27 | P17: 물량증가-양면으로
A18: SD2 / 1500*2100(면적:3.15) | B18: 방화문 | C18: 양개 1800*2100 | D18: SET | F18: 1 | G18: 1 | H18: 1 | I18: =G18*H18 -> 1 | L18: 1 | O18: =I18-N18 -> 1
B19: 도아체크달기(강재) | C19: 3호.보통용 | D19: 개소 | F19: 2 | G19: 2 | H19: 1 | I19: =G19*H19 -> 2 | L19: 2 | M19: 1 | N19: 2 | O19: =I19-N19 -> 0
B20: 도아록설치 | C20: 공정 | D20: 개소 | F20: 1 | G20: 1 | H20: 1 | I20: =G20*H20 -> 1 | L20: 1 | M20: 1 | N20: 1 | O20: =I20-N20 -> 0
B21: 도아록설치 | C21: 원통형(철재문) | D21: 개소 | F21: 1 | G21: 1 | H21: 1 | I21: =G21*H21 -> 1 | L21: 1 | M21: 1 | N21: 1 | O21: =I21-N21 -> 0
B22: 피벗힌지 | C22: 140kg이하 ㉿K-1400 | D22: 조 | F22: 2 | G22: 2 | H22: 1 | I22: =G22*H22 -> 2 | L22: 2 | M22: 1 | N22: 2 | O22: =I22-N22 -> 0
B23: 창호주위 수밀코킹(10mm각) | C23: 실리콘 | D23: M | F23: (1.5+2.1*2)*2 | G23: =(1.5+2.1*2)*2 -> 11.4 | H23: 1 | I23: =G23*H23 -> 11.4 | L23: 5.7 | M23: 1 | N23: 5.7 | O23: =I23-N23 -> 5.7 | P23: 물량증가-안쪽과 바깥쪽
B24: 창틀주위 단열폼 충진 | C24: 우레탄폼(10mm) | D24: M | F24: (1.5+2.1)*2 | G24: =(1.5+2.1)*2 -> 7.2 | H24: 1 | I24: =G24*H24 -> 7.2 | L24: 5.7 | M24: 1 | N24: 5.7 | O24: =I24-N24 -> 1.5 | P24: 물량증가-문틀하부도 사춤
A25: PD1 / 900*2100(면적:1.89) | B25: 프라스틱문 | C25: 900*2100*220 | D25: 조 | F25: 1 | G25: 1 | H25: 90 | I25: =G25 -> 1 | L25: 1 | O25: =I25-N25 -> 1
B26: 도아록설치 | C26: 러버형 | D26: 개소 | F26: 1 | G26: 1 | H26: 90 | I26: =G26*H26 -> 90 | L26: 1 | M26: 90 | N26: 90 | O26: =I26-N26 -> 0
B27: 창호주위 수밀코킹(10mm각) | C27: 실리콘 | D27: M | F27: (0.9+2.1)*2 | G27: 6 | H27: 90 | I27: =G27*H27 -> 540 | L27: 5.1 | M27: 90 | N27: 459 | O27: =I27-N27 -> 81 | P27: 실내문인데 물량산출 불필요
B28: 창틀주위 단열폼 충진 | C28: 우레탄폼(10mm) | D28: M | F28: (0.9+2.1*2) | G28: 5.1 | H28: 90 | I28: =G28*H28 -> 459 | L28: 5.1 | M28: 90 | N28: 459 | O28: =I28-N28 -> 0
B29: 문틀주위 몰딩설치 | C29: T9 X 50W | D29: M | F29: (0.9+2.1*2) | G29: 5.1 | H29: 90 | I29: =G29*H29 -> 459 | L29: 5.1 | M29: 90 | N29: 459 | O29: =I29-N29 -> 0
A30: PD2 / 800*2100(면적:1.68) | B30: 프라스틱문 | C30: 800*2000*220 | D30: 조 | F30: 1 | G30: 1 | I30: =G30*H30 -> 0 | L30: 1 | O30: =I30-N30 -> 0
B31: 도아록설치 | C31: 러버형 | D31: 개소 | F31: 1 | G31: 1 | H31: 60 | I31: =G31*H31 -> 60 | L31: 1 | M31: 60 | N31: 60 | O31: =I31-N31 -> 0
B32: 창호주위 수밀코킹(10mm각) | C32: 실리콘 | D32: M | F32: (0.8+2.1)*2 | G32: 5.8 | H32: 60 | I32: =G32*H32 -> 348 | L32: 5 | M32: 60 | N32: 300 | O32: =I32-N32 -> 48 | P32: 실내문인데 물량산출 불필요
B33: 창틀주위 단열폼 충진 | C33: 우레탄폼(10mm) | D33: M | F33: (0.8+2.1*2) | G33: 5 | H33: 60 | I33: =G33*H33 -> 300 | L33: 5 | M33: 60 | N33: 300 | O33: =I33-N33 -> 0
B34: 문틀주위 몰딩설치 | C34: T9 X 50W | D34: M | F34: (0.8+2.1*2) | G34: 5 | H34: 60 | I34: =G34*H34 -> 300 | L34: 5 | M34: 60 | N34: 300 | O34: =I34-N34 -> 0
A35: PD3 / 1200*2100(면적:2.52) | B35: 프라스틱창문틀(백색목무늬) | C35: 미서기창 115mm | D35: SET | F35: (1.2*2.1) | G35: 2.52 | H35: 30 | I35: =G35*H35 -> 75.6 | L35: 2.52 | O35: =I35-N35 -> 75.6
A36: 공사명 : 한울본부 노후사택(103동) 종합개보수공사 > 건축공사 > 창호 | O36: =I36-N36 -> 0
A37: 위치 | B37: 품명 | C37: 규격 | D37: 단위 | E37: 부위 | F37: 산출식 | G37: 물량 | H37: 개소 | I37: 수량 | J37: 비고 | L37: 당초물량 | M37: 개소 | N37: 당초수량 | O37: 증감
A38: PD3 / 1200*2100(면적:2.52) | B38: 강화유리 | C38: 8mm 칼라 | D38: M2 | F38: (0.52*2.02*2) | G38: 2.1 | H38: 30 | I38: =G38*H38 -> 63 | L38: 2.1 | M38: 30 | N38: 63 | O38: =I38-N38 -> 0
B39: 유리주위코킹 | C39: 복층유리 5*5,실리콘 | D39: M | F39: ((0.52+2.02)*2*2)*2 | G39: =((0.52+2.02)*2*2)*2 -> 20.32 | H39: 30 | I39: =G39*H39 -> 609.6 | L39: 10.16 | M39: 30 | N39: 304.8 | O39: =I39-N39 -> 304.8 | P39: 물량증가-안쪽과 바깥쪽
B40: 창호주위 수밀코킹(10mm각) | C40: 실리콘,내부 | D40: M | F40: (1.2+2.1*2) | G40: 5.4 | H40: 30 | I40: =G40*H40 -> 162 | L40: 5.4 | M40: 30 | N40: 162 | O40: =I40-N40 -> 0
B41: 창틀주위 단열폼 충진 | C41: 우레탄폼(10mm) | D41: M | F41: (1.2+2.1*2) | G41: 5.4 | H41: 30 | I41: =G41*H41 -> 162 | L41: 5.4 | M41: 30 | N41: 162 | O41: =I41-N41 -> 0
B42: 문틀주위 몰딩설치 | C42: T9 X 50W | D42: M | F42: (1.2+2.1*2) | G42: 5.4 | H42: 30 | I42: =G42*H42 -> 162 | L42: 5.4 | M42: 30 | N42: 162 | O42: =I42-N42 -> 0
A43: PD4 / 3000*2100(면적:6.3) | B43: 프라스틱창문틀(백색목무늬) | C43: 공틀일체형미서기창 225mm | D43: SET | F43: (3*2.1) | G43: 6.3 | H43: 30 | I43: =G43*H43 -> 189 | L43: 6.3 | O43: =I43-N43 -> 189
B44: 복층유리 | C44: 16mm 투명 | D44: M2 | F44: (0.67*2.02*4) | G44: 5.413 | H44: 30 | I44: =G44*H44 -> 162.39 | L44: 5.413 | M44: 30 | N44: 162.39 | O44: =I44-N44 -> 0
B45: 유리주위코킹 | C45: 복층유리 5*5,실리콘 | D45: M | F45: ((0.67+2.02)*2*4)*2 | G45: =((0.67+2.02)*2*4)*2 -> 43.04 | H45: 30 | I45: =G45*H45 -> 1291.2 | L45: 21.52 | M45: 30 | N45: 645.6 | O45: =I45-N45 -> 645.6 | P45: 물량증가-안쪽과 바깥쪽
B46: 창호주위 수밀코킹(10mm각) | C46: 실리콘 | D46: M | F46: (3+2.1)*2 | G46: =(3+2.1)*2 -> 10.2 | H46: 30 | I46: =G46*H46 -> 306 | L46: 7.2 | M46: 30 | N46: 216 | O46: =I46-N46 -> 90 | P46: 물량증가-하부도 산출
B47: 창틀주위 단열폼 충진 | C47: 우레탄폼(10mm) | D47: M | F47: (3+2.1)*2 | G47: =(3+2.1)*2 -> 10.2 | H47: 30 | I47: =G47*H47 -> 306 | L47: 7.2 | M47: 30 | N47: 216 | O47: =I47-N47 -> 90 | P47: 물량증가-하부도 산출
A48: PD5 / 900*2100(면적:1.89) | B48: 프라스틱문 | C48: 900*2100*220 | D48: 조 | F48: 1 | G48: 1 | H48: 30 | I48: =G48*H48 -> 30 | L48: 1 | O48: =I48-N48 -> 30
B49: 도아록설치 | C49: 러버형 | D49: 개소 | F49: 1 | G49: 1 | H49: 30 | I49: =G49*H49 -> 30 | L49: 1 | M49: 30 | N49: 30 | O49: =I49-N49 -> 0
B50: 맑은유리 | C50: 5mm | D50: M2 | F50: (0.52*0.72*1) | G50: 0.374 | H50: 30 | I50: =G50*H50 -> 11.22 | L50: 0.374 | M50: 30 | N50: 11.22 | O50: =I50-N50 -> 0
B51: 유리주위코킹 | C51: 복층유리 5*5,실리콘 | D51: M | F51: (0.52+0.72)*2*1*2 | G51: =(0.52+0.72)*2*1*2 -> 4.96 | H51: 30 | I51: =G51*H51 -> 148.8 | L51: 2.48 | M51: 30 | N51: 74.4 | O51: =I51-N51 -> 74.4 | P51: 물량증가-안쪽과 바깥쪽
B52: 창호주위 수밀코킹(10mm각) | C52: 실리콘,내부 | D52: M | F52: (0.9+2.1*2) | G52: 5.1 | H52: 30 | I52: =G52*H52 -> 153 | L52: 5.1 | M52: 30 | N52: 153 | O52: =I52-N52 -> 0
B53: 창틀주위 단열폼 충진 | C53: 우레탄폼(10mm) | D53: M | F53: (0.9+2.1*2) | G53: 5.1 | H53: 30 | I53: =G53*H53 -> 153 | L53: 5.1 | M53: 30 | N53: 153 | O53: =I53-N53 -> 0
A54: PW1 / 1500*1200(면적:1.8) | B54: 프라스틱창문틀(백색목무늬) | C54: 이중미서기창(복층유리용) 225mm | D54: SET | F54: (1.5*1.2) | G54: 1.8 | H54: 30 | I54: =G54*H54 -> 54 | L54: 1.8 | O54: =I54-N54 -> 54
B55: 맑은유리 | C55: 5mm 투명 | D55: M2 | F55: (0.67*1.12*2) | G55: 1.5 | H55: 30 | I55: =G55*H55 -> 45 | L55: 1.5 | M55: 30 | N55: 45 | O55: =I55-N55 -> 0
B56: 무늬유리 | C56: 5mm 불투명 | D56: M2 | F56: (0.67*1.12*2) | G56: 1.5 | H56: 30 | I56: =G56*H56 -> 45 | L56: 1.5 | M56: 30 | N56: 45 | O56: =I56-N56 -> 0
B57: 창틀주위 단열폼 충진 | C57: 우레탄폼(10mm) | D57: M | E57: 창호코킹 | F57: ((1.5+1.2)*2) | G57: 5.4 | H57: 30 | I57: =G57*H57 -> 162 | L57: 5.4 | M57: 30 | N57: 162 | O57: =I57-N57 -> 0
B58: 창호주위 수밀코킹(10mm각) | C58: 실리콘 | D58: M | E58: 창호코킹 | F58: ((1.5+1.2)*2) | G58: 5.4 | H58: 30 | I58: =G58*H58 -> 162 | L58: 5.4 | M58: 30 | N58: 162 | O58: =I58-N58 -> 0 | P58: 물량증가-안쪽과 바깥쪽
B59: 유리주위코킹 | C59: 복층유리 5*5,실리콘 | D59: M | F59: ((0.67+1.12)*2*2+(0.67+1.12)*2*2)*2 | G59: =((0.67+1.12)*2*2+(0.67+1.12)*2*2)*2 -> 28.64 | H59: 30 | I59: =G59*H59 -> 859.2 | L59: 14.32 | M59: 30 | N59: 429.6 | O59: =I59-N59 -> 429.6 | P59: 물량증가-안쪽과 바깥쪽
A60: PW2 / 1200*1200(면적:1.44) | B60: 프라스틱창문틀(백색목무늬) | C60: 이중미서기창(복층유리용) 225mm | D60: SET | F60: (1.2*1.2) | G60: 1.44 | H60: 30 | I60: =G60*H60 -> 43.2 | L60: 1.44 | O60: =I60-N60 -> 43.2
B61: 맑은유리 | C61: 5mm 투명 | D61: M2 | F61: (0.52*1.12*2) | G61: 1.164 | H61: 30 | I61: =G61*H61 -> 34.92 | L61: 1.164 | M61: 30 | N61: 34.92 | O61: =I61-N61 -> 0
B62: 무늬유리 | C62: 5mm 불투명 | D62: M2 | F62: (0.52*1.12*2) | G62: 1.164 | H62: 30 | I62: =G62*H62 -> 34.92 | L62: 1.164 | M62: 30 | N62: 34.92 | O62: =I62-N62 -> 0
B63: 창틀주위 단열폼 충진 | C63: 우레탄폼(10mm) | D63: M | E63: 창호코킹 | F63: ((1.2+1.2)*2) | G63: 4.8 | H63: 30 | I63: =G63*H63 -> 144 | L63: 4.8 | M63: 30 | N63: 144 | O63: =I63-N63 -> 0
B64: 창호주위 수밀코킹(10mm각) | C64: 실리콘 | D64: M | E64: 창호코킹 | F64: ((1.2+1.2)*2) | G64: 4.8 | H64: 30 | I64: =G64*H64 -> 144 | L64: 4.8 | M64: 30 | N64: 144 | O64: =I64-N64 -> 0 | P64: 물량증가-안쪽과 바깥쪽
B65: 유리주위코킹 | C65: 복층유리 5*5,실리콘 | D65: M | F65: ((0.52+1.12)*2*2+(0.52+1.12)*2*2)*2 | G65: =((0.52+1.12)*2*2+(0.52+1.12)*2*2)*2 -> 26.24 | H65: 30 | I65: =G65*H65 -> 787.2 | L65: 13.12 | M65: 30 | N65: 393.6 | O65: =I65-N65 -> 393.6 | P65: 물량증가-안쪽과 바깥쪽
A66: AW1 / 5250*2400(면적:12.6) | B66: 레일은페시스템창호 | C66: 140mm 단열미서기창 | D66: KG | E66: 이중으로 산출 | F66: 64.842*2 | G66: 129.684 | H66: 30 | I66: =G66*H66 -> 3890.52 | L66: 129.684 | M66: 30 | N66: 3890.52 | O66: =I66-N66 -> 0
B67: 복층유리 | C67: 22㎜ 로이칼라 | D67: M2 | F67: ((0.82*2.32*4)+(1.645*2.32*4) | G67: 22.875 | H67: 30 | I67: =G67*H67 -> 686.25 | L67: 22.875 | M67: 30 | N67: 686.25 | O67: =I67-N67 -> 0
A69: 공사명 : 한울본부 노후사택(103동) 종합개보수공사 > 건축공사 > 창호 | O69: =I69-N69 -> 0
A70: 위치 | B70: 품명 | C70: 규격 | D70: 단위 | E70: 부위 | F70: 산출식 | G70: 물량 | H70: 개소 | I70: 수량 | J70: 비고 | L70: 당초물량 | M70: 개소 | N70: 당초수량 | O70: 증감
A71: AW1 / 5250*2400(면적:12.6) | B71: 창틀주위 단열폼 충진 | C71: 우레탄폼(10mm) | D71: M | E71: 창호코킹 | F71: ((5.25+2.4)*2) | G71: 15.3 | H71: 30 | I71: =G71*H71 -> 459 | L71: 15.3 | M71: 30 | N71: 459 | O71: =I71-N71 -> 0
B72: 창호주위 수밀코킹(10mm각) | C72: 실리콘 | D72: M | E72: 창호코킹 | F72: ((5.25+2.4)*2*2) | G72: =15.3*2 -> 30.6 | H72: 30 | I72: =G72*H72 -> 918 | L72: 15.3 | M72: 30 | N72: 459 | O72: =I72-N72 -> 459 | P72: 물량증가-안쪽과 바깥쪽
B73: 유리주위코킹 | C73: 복층유리 5*5,실리콘 | D73: M | F73: ((0.82+2.32)*2*4+(1.645+2.32)*2*4)*2 | G73: =((0.82+2.32)*2*4+(1.645+2.32)*2*4)*2 -> 113.68 | H73: 30 | I73: =G73*H73 -> 3410.4 | L73: 56.84 | M73: 30 | N73: 1705.2 | O73: =I73-N73 -> 1705.2 | P73: 물량증가-안쪽과 바깥쪽
A74: AW2 / 1200*1200(면적:1.44) | B74: 레일은페시스템창호 | C74: 230mm 단열이중 미서기창 | D74: KG | F74: 59.215 | G74: 59.215 | H74: 30 | I74: =G74*H74 -> 1776.45 | L74: 59.215 | M74: 30 | N74: 1776.45 | O74: =I74-N74 -> 0
B75: 복층유리 | C75: 22㎜ 로이칼라 | D75: M2 | F75: (0.52*1.12*4) | G75: 2.329 | H75: 30 | I75: =G75*H75 -> 69.87 | L75: 2.329 | M75: 30 | N75: 69.87 | O75: =I75-N75 -> 0
B76: 창틀주위 단열폼 충진 | C76: 우레탄폼(10mm) | D76: M | E76: 창호코킹 | F76: ((1.2+1.2)*2) | G76: 4.8 | H76: 30 | I76: =G76*H76 -> 144 | L76: 4.8 | M76: 30 | N76: 144 | O76: =I76-N76 -> 0
B77: 창호주위 수밀코킹(10mm각) | C77: 실리콘,내부 | D77: M | E77: 창호코킹 | F77: ((1.2+1.2)*2*2) | G77: =4.8*2 -> 9.6 | H77: 30 | I77: =G77*H77 -> 288 | L77: 4.8 | M77: 30 | N77: 144 | O77: =I77-N77 -> 144 | P77: 물량증가-안쪽과 바깥쪽
B78: 유리주위코킹 | C78: 복층유리 5*5,실리콘 | D78: M | F78: (0.52+1.12)*2*4 | G78: 13.12 | H78: 30 | I78: =G78*H78 -> 393.6 | L78: 13.12 | M78: 30 | N78: 393.6 | O78: =I78-N78 -> 0 | P78: 물량증가-안쪽과 바깥쪽
A79: AW3 / 1850*1050(면적:1.942) | B79: 레일은페시스템창호 | C79: 140mm 단열미서기창 | D79: KG | F79: 36.632 | G79: 36.632 | H79: 30 | I79: =G79*H79 -> 1098.96 | L79: 36.632 | M79: 30 | N79: 1098.96 | O79: =I79-N79 -> 0
B80: 복층유리 | C80: 22㎜ 로이칼라 | D80: M2 | F80: (0.845*0.97*4) | G80: 3.278 | H80: 30 | I80: =G80*H80 -> 98.34 | L80: 3.278 | M80: 30 | N80: 98.34 | O80: =I80-N80 -> 0
B81: 창틀주위 단열폼 충진 | C81: 우레탄폼(10mm) | D81: M | E81: 창호코킹 | F81: ((1.85+1.05)*2) | G81: 5.8 | H81: 30 | I81: =G81*H81 -> 174 | L81: 5.8 | M81: 30 | N81: 174 | O81: =I81-N81 -> 0
B82: 창호주위 수밀코킹(10mm각) | C82: 실리콘 | D82: M | E82: 창호코킹 | F82: ((1.85+1.05)*2*2) | G82: =5.8*2 -> 11.6 | H82: 30 | I82: =G82*H82 -> 348 | L82: 5.8 | M82: 30 | N82: 174 | O82: =I82-N82 -> 174 | P82: 물량증가-안쪽과 바깥쪽
B83: 유리주위코킹 | C83: 복층유리 5*5,실리콘 | D83: M | F83: ((0.845+0.97)*2*4)*2 | G83: =((0.845+0.97)*2*4)*2 -> 29.04 | H83: 30 | I83: =G83*H83 -> 871.2 | L83: 14.52 | M83: 30 | N83: 435.6 | O83: =I83-N83 -> 435.6 | P83: 물량증가-안쪽과 바깥쪽
A84: AW4 / 900*900(면적:0.81) | B84: 레일은페시스템창호 | C84: 230mm 단열이중 미서기창 | D84: KG | F84: 39.076 | G84: 39.076 | H84: 30 | I84: =G84*H84 -> 1172.28 | L84: 39.076 | M84: 30 | N84: 1172.28 | O84: =I84-N84 -> 0
B85: 복층유리 | C85: 22㎜ 로이칼라 | D85: M2 | F85: (0.37*0.82*4) | G85: 1.213 | H85: 30 | I85: =G85*H85 -> 36.39 | L85: 1.213 | M85: 30 | N85: 36.39 | O85: =I85-N85 -> 0
B86: 창틀주위 단열폼 충진 | C86: 우레탄폼(10mm) | D86: M | E86: 창호코킹 | F86: ((0.9+0.9)*2) | G86: 3.6 | H86: 30 | I86: =G86*H86 -> 108 | L86: 3.6 | M86: 30 | N86: 108 | O86: =I86-N86 -> 0
B87: 창호주위 수밀코킹(10mm각) | C87: 실리콘 | D87: M | E87: 창호코킹 | F87: ((0.9+0.9)*2*2) | G87: =3.6*2 -> 7.2 | H87: 30 | I87: =G87*H87 -> 216 | L87: 3.6 | M87: 30 | N87: 108 | O87: =I87-N87 -> 108 | P87: 물량증가-안쪽과 바깥쪽
B88: 유리주위코킹 | C88: 복층유리 5*5,실리콘 | D88: M | F88: ((0.37+0.82)*2*4)*2 | G88: =((0.37+0.82)*2*4)*2 -> 19.04 | H88: 30 | I88: =G88*H88 -> 571.2 | L88: 9.52 | M88: 30 | N88: 285.6 | O88: =I88-N88 -> 285.6 | P88: 물량증가-안쪽과 바깥쪽
A89: AW5 / 900*500(면적:0.45) | B89: 레일은페시스템창호 | C89: 230mm 단열이중 미서기창 | D89: KG | F89: 29.338 | G89: 29.338 | H89: 30 | I89: =G89*H89 -> 880.14 | L89: 29.338 | M89: 30 | N89: 880.14 | O89: =I89-N89 -> 0
B90: 복층유리 | C90: 22㎜ 로이칼라 | D90: M2 | F90: (0.37*0.42*4) | G90: 0.621 | H90: 30 | I90: =G90*H90 -> 18.63 | L90: 0.621 | M90: 30 | N90: 18.63 | O90: =I90-N90 -> 0
B91: 창틀주위 단열폼 충진 | C91: 우레탄폼(10mm) | D91: M | E91: 창호코킹 | F91: ((0.9+0.5)*2) | G91: 2.8 | H91: 30 | I91: =G91*H91 -> 84 | L91: 2.8 | M91: 30 | N91: 84 | O91: =I91-N91 -> 0
B92: 창호주위 수밀코킹(10mm각) | C92: 실리콘,내부 | D92: M | E92: 창호코킹 | F92: ((0.9+0.5)*2*2) | G92: =2.8*2 -> 5.6 | H92: 30 | I92: =G92*H92 -> 168 | L92: 2.8 | M92: 30 | N92: 84 | O92: =I92-N92 -> 84 | P92: 물량증가-안쪽과 바깥쪽
B93: 유리주위코킹 | C93: 복층유리 5*5,실리콘 | D93: M | F93: ((0.37+0.42)*2*4)*2 | G93: =((0.37+0.42)*2*4)*2 -> 12.64 | H93: 30 | I93: =G93*H93 -> 379.2 | L93: 6.32 | M93: 30 | N93: 189.6 | O93: =I93-N93 -> 189.6 | P93: 물량증가-안쪽과 바깥쪽
A94: AW6 / 2400*12050(면적:28.92) | B94: 단열커튼월창 | C94: 60mm | D94: KG | F94: 314.05 | G94: 314.05 | H94: 3 | I94: =G94*H94 -> 942.15 | L94: 314.05 | M94: 3 | N94: 942.15 | O94: =I94-N94 -> 0
A96: 공사명 : 한울본부 노후사택(103동) 종합개보수공사 > 건축공사 > 창호 | I96: =G96*H96 -> 0 | O96: =I96-N96 -> 0
A97: 위치 | B97: 품명 | C97: 규격 | D97: 단위 | E97: 부위 | F97: 산출식 | G97: 물량 | H97: 개소 | I97: 수량 | J97: 비고 | L97: 당초물량 | M97: 개소 | N97: 당초수량 | O97: 증감
A98: AW6 / 2400*12050(면적:28.92) | B98: 복층유리 | C98: 22㎜ 로이칼라 | D98: M2 | F98: ((1.12*2.17*2)+(1.12*0.42*8)+(1.12*2.22*4)+(1.12*2.02*2)+(1.12*1.02*2) | G98: 25.379 | H98: 3 | I98: =G98*H98 -> 76.137 | L98: 25.379 | M98: 3 | N98: 76.137 | O98: =I98-N98 -> 0
B99: 창틀주위 단열폼 충진 | C99: 우레탄폼(10mm) | D99: M | E99: 창호코킹 | F99: ((2.4+12.05)*2) | G99: 28.9 | H99: 3 | I99: =G99*H99 -> 86.7 | L99: 28.9 | M99: 3 | N99: 86.7 | O99: =I99-N99 -> 0
B100: 창호주위 수밀코킹(10mm각) | C100: 실리콘 | D100: M | E100: 창호코킹 | F100: ((2.4+12.05)*2*2) | G100: =28.9*2 -> 57.8 | H100: 3 | I100: =G100*H100 -> 173.4 | L100: 28.9 | M100: 3 | N100: 86.7 | O100: =I100-N100 -> 86.7 | P100: 물량증가-안쪽과 바깥쪽
B101: 유리주위코킹 | C101: 복층유리 5*5,실리콘 | D101: M | F101: (((1.12+2.17)*2*2+(1.12+0.42)*2*8+(1.12+2.22)*2*4+(1.12+2.02)*2*2+(1.12+1.02)*2*2)*2 | G101: =((1.12+2.17)*2*2+(1.12+0.42)*2*8+(1.12+2.22)*2*4+(1.12+2.02)*2*2+(1.12+1.02)*2*2)*2 -> 171.28 | H101: 3 | I101: =G101*H101 -> 513.84 | L101: 85.64 | M101: 3 | N101: 256.92 | O101: =I101-N101 -> 256.92 | P101: 물량증가-안쪽과 바깥쪽
A102: AW7 / 600*600(면적:0.36) | B102: 레일은페시스템창호 | C102: 230mm 단열이중 미서기창 | D102: KG | F102: 25.356 | G102: 25.356 | H102: 30 | I102: =G102*H102 -> 760.68 | L102: 25.356 | M102: 30 | N102: 760.68 | O102: =I102-N102 -> 0
...
